BEGIN:VCALENDAR
VERSION:2.0
PRODID:-//AusschreibungsRadar//Timeline//DE
CALSCALE:GREGORIAN
METHOD:PUBLISH
X-WR-CALNAME:Projekt Neubau Oberschule Vettersstraße 34 in Chemnitz: Los 320 - Ti
X-WR-TIMEZONE:Europe/Berlin
BEGIN:VEVENT
UID:a44951e143448008@ausschreibungsradar.com
DTSTAMP:20260425T143614Z
DTSTART;VALUE=DATE:20220802
DTEND;VALUE=DATE:20220802
SUMMARY:Zuschlag — Neubau Oberschule Vettersstraße 34 in Chemnitz: Los 320 - Ti
DESCRIPTION:Phase: Zuschlag | Beschreibung: Vergabeergebnis — Auftrag wurde erteilt oder Verfahren beendet. | Link: https://ausschreibungsradar.com/ausschreibung/18338226/
URL:https://ausschreibungsradar.com/ausschreibung/18338226/
END:VEVENT
BEGIN:VEVENT
UID:c4529b1aaec45f93@ausschreibungsradar.com
DTSTAMP:20260425T143614Z
DTSTART;VALUE=DATE:20220802
DTEND;VALUE=DATE:20220802
SUMMARY:Zuschlag — Neubau Oberschule Vettersstraße 34 in Chemnitz: Los 320 - Ti
DESCRIPTION:Phase: Zuschlag | Beschreibung: Vergabeergebnis — Auftrag wurde erteilt oder Verfahren beendet. | Link: https://ausschreibungsradar.com/ausschreibung/18338222/
URL:https://ausschreibungsradar.com/ausschreibung/18338222/
END:VEVENT
END:VCALENDAR
