BEGIN:VCALENDAR
VERSION:2.0
PRODID:-//AusschreibungsRadar//Timeline//DE
CALSCALE:GREGORIAN
METHOD:PUBLISH
X-WR-CALNAME:Projekt Neubau Oberschule Vettersstraße 34 in Chemnitz: Los 321 - WC
X-WR-TIMEZONE:Europe/Berlin
BEGIN:VEVENT
UID:c4529b1aaec45f93@ausschreibungsradar.com
DTSTAMP:20260424T151339Z
DTSTART;VALUE=DATE:20220802
DTEND;VALUE=DATE:20220802
SUMMARY:Zuschlag — Neubau Oberschule Vettersstraße 34 in Chemnitz: Los 321 - WC
DESCRIPTION:Phase: Zuschlag | Beschreibung: Vergabeergebnis — Auftrag wurde erteilt oder Verfahren beendet. | Link: https://ausschreibungsradar.com/ausschreibung/18338222/
URL:https://ausschreibungsradar.com/ausschreibung/18338222/
END:VEVENT
BEGIN:VEVENT
UID:a44951e143448008@ausschreibungsradar.com
DTSTAMP:20260424T151339Z
DTSTART;VALUE=DATE:20220802
DTEND;VALUE=DATE:20220802
SUMMARY:Zuschlag — Neubau Oberschule Vettersstraße 34 in Chemnitz: Los 321 - WC
DESCRIPTION:Phase: Zuschlag | Beschreibung: Vergabeergebnis — Auftrag wurde erteilt oder Verfahren beendet. | Link: https://ausschreibungsradar.com/ausschreibung/18338226/
URL:https://ausschreibungsradar.com/ausschreibung/18338226/
END:VEVENT
BEGIN:VEVENT
UID:989c6df3b5ffb45b@ausschreibungsradar.com
DTSTAMP:20260424T151339Z
DTSTART;VALUE=DATE:20220812
DTEND;VALUE=DATE:20220812
SUMMARY:Zuschlag — Neubau Oberschule Vettersstraße 34 in Chemnitz: Los 321 - WC
DESCRIPTION:Phase: Zuschlag | Beschreibung: Vergabeergebnis — Auftrag wurde erteilt oder Verfahren beendet. | Link: https://ausschreibungsradar.com/ausschreibung/18404130/
URL:https://ausschreibungsradar.com/ausschreibung/18404130/
END:VEVENT
BEGIN:VEVENT
UID:e113c937c996e3ee@ausschreibungsradar.com
DTSTAMP:20260424T151339Z
DTSTART;VALUE=DATE:20220812
DTEND;VALUE=DATE:20220812
SUMMARY:Zuschlag — Neubau Oberschule Vettersstraße 34 in Chemnitz: Los 321 - WC
DESCRIPTION:Phase: Zuschlag | Beschreibung: Vergabeergebnis — Auftrag wurde erteilt oder Verfahren beendet. | Link: https://ausschreibungsradar.com/ausschreibung/18404126/
URL:https://ausschreibungsradar.com/ausschreibung/18404126/
END:VEVENT
BEGIN:VEVENT
UID:2acaaceb3b6480c9@ausschreibungsradar.com
DTSTAMP:20260424T151339Z
DTSTART;VALUE=DATE:20220812
DTEND;VALUE=DATE:20220812
SUMMARY:Zuschlag — Neubau Oberschule Vettersstraße 34 in Chemnitz: Los 321 - WC
DESCRIPTION:Phase: Zuschlag | Beschreibung: Vergabeergebnis — Auftrag wurde erteilt oder Verfahren beendet. | Link: https://ausschreibungsradar.com/ausschreibung/18404122/
URL:https://ausschreibungsradar.com/ausschreibung/18404122/
END:VEVENT
BEGIN:VEVENT
UID:0c91af71f92a6f8b@ausschreibungsradar.com
DTSTAMP:20260424T151339Z
DTSTART;VALUE=DATE:20220815
DTEND;VALUE=DATE:20220815
SUMMARY:Zuschlag — Neubau Oberschule Vettersstraße 34 in Chemnitz: Los 321 - WC
DESCRIPTION:Phase: Zuschlag | Beschreibung: Vergabeergebnis — Auftrag wurde erteilt oder Verfahren beendet. | Link: https://ausschreibungsradar.com/ausschreibung/18415830/
URL:https://ausschreibungsradar.com/ausschreibung/18415830/
END:VEVENT
END:VCALENDAR
