BEGIN:VCALENDAR
VERSION:2.0
PRODID:-//AusschreibungsRadar//Timeline//DE
CALSCALE:GREGORIAN
METHOD:PUBLISH
X-WR-CALNAME:Projekt Anbau an eine Kita in Naumburg - Freimachung, Erdarbeiten un
X-WR-TIMEZONE:Europe/Berlin
BEGIN:VEVENT
UID:886f5d1ad3b3792c@ausschreibungsradar.com
DTSTAMP:20260425T225649Z
DTSTART;VALUE=DATE:20220913
DTEND;VALUE=DATE:20220913
SUMMARY:Ausschreibung — Anbau an eine Kita in Naumburg - Freimachung\, Erdarbeiten un
DESCRIPTION:Phase: Ausschreibung | Beschreibung: Offizielle Ausschreibung mit Bieterfrist. | Link: https://ausschreibungsradar.com/ausschreibung/18574652/
URL:https://ausschreibungsradar.com/ausschreibung/18574652/
END:VEVENT
BEGIN:VEVENT
UID:2098f3640568f545@ausschreibungsradar.com
DTSTAMP:20260425T225649Z
DTSTART;VALUE=DATE:20220913
DTEND;VALUE=DATE:20220913
SUMMARY:Ausschreibung — Anbau an eine Kita in Naumburg - Freimachung\, Erdarbeiten un
DESCRIPTION:Phase: Ausschreibung | Beschreibung: Offizielle Ausschreibung mit Bieterfrist. | Link: https://ausschreibungsradar.com/ausschreibung/18574664/
URL:https://ausschreibungsradar.com/ausschreibung/18574664/
END:VEVENT
END:VCALENDAR
