BEGIN:VCALENDAR
VERSION:2.0
PRODID:-//AusschreibungsRadar//Timeline//DE
CALSCALE:GREGORIAN
METHOD:PUBLISH
X-WR-CALNAME:Projekt Jahresvertragsarbeiten 2023 - 2026 VG-Werke Puderbach - Kana
X-WR-TIMEZONE:Europe/Berlin
BEGIN:VEVENT
UID:a926148151fc104f@ausschreibungsradar.com
DTSTAMP:20260425T122527Z
DTSTART;VALUE=DATE:20220915
DTEND;VALUE=DATE:20220915
SUMMARY:Ausschreibung — Jahresvertragsarbeiten 2023 - 2026 VG-Werke Puderbach - Kana
DESCRIPTION:Phase: Ausschreibung | Beschreibung: Offizielle Ausschreibung mit Bieterfrist. | Link: https://ausschreibungsradar.com/ausschreibung/18590738/
URL:https://ausschreibungsradar.com/ausschreibung/18590738/
END:VEVENT
BEGIN:VEVENT
UID:1d4ccf506d6babe9@ausschreibungsradar.com
DTSTAMP:20260425T122527Z
DTSTART;VALUE=DATE:20220915
DTEND;VALUE=DATE:20220915
SUMMARY:Ausschreibung — Jahresvertragsarbeiten 2023 - 2026 VG-Werke Puderbach - Kana
DESCRIPTION:Phase: Ausschreibung | Beschreibung: Offizielle Ausschreibung mit Bieterfrist. | Link: https://ausschreibungsradar.com/ausschreibung/18590734/
URL:https://ausschreibungsradar.com/ausschreibung/18590734/
END:VEVENT
END:VCALENDAR
