BEGIN:VCALENDAR
VERSION:2.0
PRODID:-//AusschreibungsRadar//Timeline//DE
CALSCALE:GREGORIAN
METHOD:PUBLISH
X-WR-CALNAME:Projekt Anbau an eine Kita in Naumburg - Maurer- und Rohbauarbeiten
X-WR-TIMEZONE:Europe/Berlin
BEGIN:VEVENT
UID:d887f73337da6966@ausschreibungsradar.com
DTSTAMP:20260424T133105Z
DTSTART;VALUE=DATE:20221026
DTEND;VALUE=DATE:20221026
SUMMARY:Ausschreibung — Anbau an eine Kita in Naumburg - Maurer- und Rohbauarbeiten
DESCRIPTION:Phase: Ausschreibung | Beschreibung: Offizielle Ausschreibung mit Bieterfrist. | Link: https://ausschreibungsradar.com/ausschreibung/18825634/
URL:https://ausschreibungsradar.com/ausschreibung/18825634/
END:VEVENT
BEGIN:VEVENT
UID:e39913618b4d4992@ausschreibungsradar.com
DTSTAMP:20260424T133105Z
DTSTART;VALUE=DATE:20221027
DTEND;VALUE=DATE:20221027
SUMMARY:Ausschreibung — Anbau an eine Kita in Naumburg - Maurer- und Rohbauarbeiten
DESCRIPTION:Phase: Ausschreibung | Beschreibung: Offizielle Ausschreibung mit Bieterfrist. | Link: https://ausschreibungsradar.com/ausschreibung/18833976/
URL:https://ausschreibungsradar.com/ausschreibung/18833976/
END:VEVENT
BEGIN:VEVENT
UID:a6ad9f404e77804f@ausschreibungsradar.com
DTSTAMP:20260424T133105Z
DTSTART;VALUE=DATE:20221027
DTEND;VALUE=DATE:20221027
SUMMARY:Ausschreibung — Anbau an eine Kita in Naumburg - Maurer- und Rohbauarbeiten
DESCRIPTION:Phase: Ausschreibung | Beschreibung: Offizielle Ausschreibung mit Bieterfrist. | Link: https://ausschreibungsradar.com/ausschreibung/18833992/
URL:https://ausschreibungsradar.com/ausschreibung/18833992/
END:VEVENT
BEGIN:VEVENT
UID:9ef539085c35674b@ausschreibungsradar.com
DTSTAMP:20260424T133105Z
DTSTART;VALUE=DATE:20221027
DTEND;VALUE=DATE:20221027
SUMMARY:Ausschreibung — Anbau an eine Kita in Naumburg - Maurer- und Rohbauarbeiten
DESCRIPTION:Phase: Ausschreibung | Beschreibung: Offizielle Ausschreibung mit Bieterfrist. | Link: https://ausschreibungsradar.com/ausschreibung/18833988/
URL:https://ausschreibungsradar.com/ausschreibung/18833988/
END:VEVENT
BEGIN:VEVENT
UID:5d116357222ef6bd@ausschreibungsradar.com
DTSTAMP:20260424T133105Z
DTSTART;VALUE=DATE:20221027
DTEND;VALUE=DATE:20221027
SUMMARY:Ausschreibung — Anbau an eine Kita in Naumburg - Maurer- und Rohbauarbeiten
DESCRIPTION:Phase: Ausschreibung | Beschreibung: Offizielle Ausschreibung mit Bieterfrist. | Link: https://ausschreibungsradar.com/ausschreibung/18833980/
URL:https://ausschreibungsradar.com/ausschreibung/18833980/
END:VEVENT
END:VCALENDAR
