BEGIN:VCALENDAR
VERSION:2.0
PRODID:-//AusschreibungsRadar//Timeline//DE
CALSCALE:GREGORIAN
METHOD:PUBLISH
X-WR-CALNAME:Projekt Neubau Feuerwehrgerätehaus Pockau: Los 31 - Sanitär-/ Heizun
X-WR-TIMEZONE:Europe/Berlin
BEGIN:VEVENT
UID:4fa41a00f24b3452@ausschreibungsradar.com
DTSTAMP:20260424T060410Z
DTSTART;VALUE=DATE:20221102
DTEND;VALUE=DATE:20221102
SUMMARY:Ausschreibung — Neubau Feuerwehrgerätehaus Pockau: Los 31 - Sanitär-/ Heizun
DESCRIPTION:Phase: Ausschreibung | Beschreibung: Offizielle Ausschreibung mit Bieterfrist. | Link: https://ausschreibungsradar.com/ausschreibung/18863616/
URL:https://ausschreibungsradar.com/ausschreibung/18863616/
END:VEVENT
BEGIN:VEVENT
UID:30a78ffe0e93ec75@ausschreibungsradar.com
DTSTAMP:20260424T060410Z
DTSTART;VALUE=DATE:20221103
DTEND;VALUE=DATE:20221103
SUMMARY:Ausschreibung — Neubau Feuerwehrgerätehaus Pockau: Los 31 - Sanitär-/ Heizun
DESCRIPTION:Phase: Ausschreibung | Beschreibung: Offizielle Ausschreibung mit Bieterfrist. | Link: https://ausschreibungsradar.com/ausschreibung/18867768/
URL:https://ausschreibungsradar.com/ausschreibung/18867768/
END:VEVENT
BEGIN:VEVENT
UID:d0cee0df0f84f4b9@ausschreibungsradar.com
DTSTAMP:20260424T060410Z
DTSTART;VALUE=DATE:20221130
DTEND;VALUE=DATE:20221130
SUMMARY:Ausschreibung — Neubau Feuerwehrgerätehaus Pockau: Los 31 - Sanitär-/ Heizun
DESCRIPTION:Phase: Ausschreibung | Beschreibung: Offizielle Ausschreibung mit Bieterfrist. | Link: https://ausschreibungsradar.com/ausschreibung/19017284/
URL:https://ausschreibungsradar.com/ausschreibung/19017284/
END:VEVENT
BEGIN:VEVENT
UID:64a2eeae63904ba4@ausschreibungsradar.com
DTSTAMP:20260424T060410Z
DTSTART;VALUE=DATE:20221130
DTEND;VALUE=DATE:20221130
SUMMARY:Ausschreibung — Neubau Feuerwehrgerätehaus Pockau: Los 31 - Sanitär-/ Heizun
DESCRIPTION:Phase: Ausschreibung | Beschreibung: Offizielle Ausschreibung mit Bieterfrist. | Link: https://ausschreibungsradar.com/ausschreibung/19017288/
URL:https://ausschreibungsradar.com/ausschreibung/19017288/
END:VEVENT
BEGIN:VEVENT
UID:1d593d24bfdf6d22@ausschreibungsradar.com
DTSTAMP:20260424T060410Z
DTSTART;VALUE=DATE:20221130
DTEND;VALUE=DATE:20221130
SUMMARY:Ausschreibung — Neubau Feuerwehrgerätehaus Pockau: Los 31 - Sanitär-/ Heizun
DESCRIPTION:Phase: Ausschreibung | Beschreibung: Offizielle Ausschreibung mit Bieterfrist. | Link: https://ausschreibungsradar.com/ausschreibung/19017292/
URL:https://ausschreibungsradar.com/ausschreibung/19017292/
END:VEVENT
END:VCALENDAR
