BEGIN:VCALENDAR
VERSION:2.0
PRODID:-//AusschreibungsRadar//Timeline//DE
CALSCALE:GREGORIAN
METHOD:PUBLISH
X-WR-CALNAME:Projekt Hohenzollerngruft / Touristische Infrastruktur Berliner Dom
X-WR-TIMEZONE:Europe/Berlin
BEGIN:VEVENT
UID:c0ee8d161af4d478@ausschreibungsradar.com
DTSTAMP:20260424T032158Z
DTSTART;VALUE=DATE:20221116
DTEND;VALUE=DATE:20221116
SUMMARY:Ausschreibung — Hohenzollerngruft / Touristische Infrastruktur Berliner Dom
DESCRIPTION:Phase: Ausschreibung | Beschreibung: Offizielle Ausschreibung mit Bieterfrist. | Link: https://ausschreibungsradar.com/ausschreibung/18948048/
URL:https://ausschreibungsradar.com/ausschreibung/18948048/
END:VEVENT
BEGIN:VEVENT
UID:1933cf2a0dc28fb9@ausschreibungsradar.com
DTSTAMP:20260424T032158Z
DTSTART;VALUE=DATE:20221120
DTEND;VALUE=DATE:20221120
SUMMARY:Ausschreibung — Hohenzollerngruft / Touristische Infrastruktur Berliner Dom
DESCRIPTION:Phase: Ausschreibung | Beschreibung: Offizielle Ausschreibung mit Bieterfrist. | Link: https://ausschreibungsradar.com/ausschreibung/18969046/
URL:https://ausschreibungsradar.com/ausschreibung/18969046/
END:VEVENT
BEGIN:VEVENT
UID:99ab390c05af7fb8@ausschreibungsradar.com
DTSTAMP:20260424T032158Z
DTSTART;VALUE=DATE:20221120
DTEND;VALUE=DATE:20221120
SUMMARY:Ausschreibung — Hohenzollerngruft / Touristische Infrastruktur Berliner Dom
DESCRIPTION:Phase: Ausschreibung | Beschreibung: Offizielle Ausschreibung mit Bieterfrist. | Link: https://ausschreibungsradar.com/ausschreibung/18969070/
URL:https://ausschreibungsradar.com/ausschreibung/18969070/
END:VEVENT
BEGIN:VEVENT
UID:8493d64bd4b6babd@ausschreibungsradar.com
DTSTAMP:20260424T032158Z
DTSTART;VALUE=DATE:20221120
DTEND;VALUE=DATE:20221120
SUMMARY:Ausschreibung — Hohenzollerngruft / Touristische Infrastruktur Berliner Dom
DESCRIPTION:Phase: Ausschreibung | Beschreibung: Offizielle Ausschreibung mit Bieterfrist. | Link: https://ausschreibungsradar.com/ausschreibung/18969050/
URL:https://ausschreibungsradar.com/ausschreibung/18969050/
END:VEVENT
END:VCALENDAR
