BEGIN:VCALENDAR
VERSION:2.0
PRODID:-//AusschreibungsRadar//Timeline//DE
CALSCALE:GREGORIAN
METHOD:PUBLISH
X-WR-CALNAME:Projekt Jobcenter Mansfeld-Südharz: Beschaffung von Briefdienstleist
X-WR-TIMEZONE:Europe/Berlin
BEGIN:VEVENT
UID:08ec2cca25685010@ausschreibungsradar.com
DTSTAMP:20260424T230815Z
DTSTART;VALUE=DATE:20250711
DTEND;VALUE=DATE:20250711
SUMMARY:Ausschreibung — Jobcenter Mansfeld-Südharz: Beschaffung von Briefdienstleist
DESCRIPTION:Phase: Ausschreibung | Beschreibung: Angebote werden eingeholt | Link: https://ausschreibungsradar.com/ausschreibung/1900fc8d-f6e0-4e43-856b-6ea10aa7ab28/
URL:https://ausschreibungsradar.com/ausschreibung/1900fc8d-f6e0-4e43-856b-6ea10aa7ab28/
END:VEVENT
BEGIN:VEVENT
UID:2c9e06d967f29bea@ausschreibungsradar.com
DTSTAMP:20260424T230815Z
DTSTART;VALUE=DATE:20250711
DTEND;VALUE=DATE:20250711
SUMMARY:Ausschreibung — Jobcenter Mansfeld-Südharz: Beschaffung von Briefdienstleist
DESCRIPTION:Phase: Ausschreibung | Beschreibung: Offizielle Ausschreibung mit Bieterfrist. | Link: https://ausschreibungsradar.com/ausschreibung/e9eaf4b6-c773-43a7-a94b-d5c8eaab858b/
URL:https://ausschreibungsradar.com/ausschreibung/e9eaf4b6-c773-43a7-a94b-d5c8eaab858b/
END:VEVENT
BEGIN:VEVENT
UID:7ce77a9d6bf6aaae@ausschreibungsradar.com
DTSTAMP:20260424T230815Z
DTSTART;VALUE=DATE:20251014
DTEND;VALUE=DATE:20251014
SUMMARY:Vergabeergebnis — Jobcenter Mansfeld-Südharz: Beschaffung von Briefdienstleist
DESCRIPTION:Phase: Vergabeergebnis | Beschreibung: Auftrag wurde zugeschlagen | Link: https://ausschreibungsradar.com/ausschreibung/01411728-0c25-473f-8ae8-003ca29d0486/ | Geschätzter Wert: 281499 €
URL:https://ausschreibungsradar.com/ausschreibung/01411728-0c25-473f-8ae8-003ca29d0486/
END:VEVENT
BEGIN:VEVENT
UID:8ddb2b89cef263dc@ausschreibungsradar.com
DTSTAMP:20260424T230815Z
DTSTART;VALUE=DATE:20251014
DTEND;VALUE=DATE:20251014
SUMMARY:Zuschlag — Jobcenter Mansfeld-Südharz: Beschaffung von Briefdienstleist
DESCRIPTION:Phase: Zuschlag | Beschreibung: Vergabeergebnis — Auftrag wurde erteilt oder Verfahren beendet. | Link: https://ausschreibungsradar.com/ausschreibung/14b877af-b25d-4c55-9d88-634cb4a9cf3f/
URL:https://ausschreibungsradar.com/ausschreibung/14b877af-b25d-4c55-9d88-634cb4a9cf3f/
END:VEVENT
END:VCALENDAR
