BEGIN:VCALENDAR
VERSION:2.0
PRODID:-//AusschreibungsRadar//Timeline//DE
CALSCALE:GREGORIAN
METHOD:PUBLISH
X-WR-CALNAME:Projekt Neubau eines Feuerwehrhauses mit Bauhof in Kleinfischlingen
X-WR-TIMEZONE:Europe/Berlin
BEGIN:VEVENT
UID:47ac689b821d86df@ausschreibungsradar.com
DTSTAMP:20260424T020542Z
DTSTART;VALUE=DATE:20221216
DTEND;VALUE=DATE:20221216
SUMMARY:Ausschreibung — Neubau eines Feuerwehrhauses mit Bauhof in Kleinfischlingen
DESCRIPTION:Phase: Ausschreibung | Beschreibung: Offizielle Ausschreibung mit Bieterfrist. | Link: https://ausschreibungsradar.com/ausschreibung/19126818/
URL:https://ausschreibungsradar.com/ausschreibung/19126818/
END:VEVENT
BEGIN:VEVENT
UID:ed6946c2a6f9b907@ausschreibungsradar.com
DTSTAMP:20260424T020542Z
DTSTART;VALUE=DATE:20221216
DTEND;VALUE=DATE:20221216
SUMMARY:Ausschreibung — Neubau eines Feuerwehrhauses mit Bauhof in Kleinfischlingen
DESCRIPTION:Phase: Ausschreibung | Beschreibung: Offizielle Ausschreibung mit Bieterfrist. | Link: https://ausschreibungsradar.com/ausschreibung/19126842/
URL:https://ausschreibungsradar.com/ausschreibung/19126842/
END:VEVENT
END:VCALENDAR
