BEGIN:VCALENDAR
VERSION:2.0
PRODID:-//AusschreibungsRadar//Timeline//DE
CALSCALE:GREGORIAN
METHOD:PUBLISH
X-WR-CALNAME:Projekt Neubau einer Kindertageseinrichtung mit zwei Kindergarten- u
X-WR-TIMEZONE:Europe/Berlin
BEGIN:VEVENT
UID:f1e96121dad3e90d@ausschreibungsradar.com
DTSTAMP:20260424T133254Z
DTSTART;VALUE=DATE:20230216
DTEND;VALUE=DATE:20230216
SUMMARY:Ausschreibung — Neubau einer Kindertageseinrichtung mit zwei Kindergarten- u
DESCRIPTION:Phase: Ausschreibung | Beschreibung: Offizielle Ausschreibung mit Bieterfrist. | Link: https://ausschreibungsradar.com/ausschreibung/19511700/
URL:https://ausschreibungsradar.com/ausschreibung/19511700/
END:VEVENT
BEGIN:VEVENT
UID:ea01c3f8b16781bc@ausschreibungsradar.com
DTSTAMP:20260424T133254Z
DTSTART;VALUE=DATE:20230216
DTEND;VALUE=DATE:20230216
SUMMARY:Ausschreibung — Neubau einer Kindertageseinrichtung mit zwei Kindergarten- u
DESCRIPTION:Phase: Ausschreibung | Beschreibung: Offizielle Ausschreibung mit Bieterfrist. | Link: https://ausschreibungsradar.com/ausschreibung/19511716/
URL:https://ausschreibungsradar.com/ausschreibung/19511716/
END:VEVENT
BEGIN:VEVENT
UID:5a8c33e7e259fbcb@ausschreibungsradar.com
DTSTAMP:20260424T133254Z
DTSTART;VALUE=DATE:20230216
DTEND;VALUE=DATE:20230216
SUMMARY:Ausschreibung — Neubau einer Kindertageseinrichtung mit zwei Kindergarten- u
DESCRIPTION:Phase: Ausschreibung | Beschreibung: Offizielle Ausschreibung mit Bieterfrist. | Link: https://ausschreibungsradar.com/ausschreibung/19511708/
URL:https://ausschreibungsradar.com/ausschreibung/19511708/
END:VEVENT
BEGIN:VEVENT
UID:8d1c73049ab157f4@ausschreibungsradar.com
DTSTAMP:20260424T133254Z
DTSTART;VALUE=DATE:20230216
DTEND;VALUE=DATE:20230216
SUMMARY:Ausschreibung — Neubau einer Kindertageseinrichtung mit zwei Kindergarten- u
DESCRIPTION:Phase: Ausschreibung | Beschreibung: Offizielle Ausschreibung mit Bieterfrist. | Link: https://ausschreibungsradar.com/ausschreibung/19511720/
URL:https://ausschreibungsradar.com/ausschreibung/19511720/
END:VEVENT
BEGIN:VEVENT
UID:84a732c9a07948f6@ausschreibungsradar.com
DTSTAMP:20260424T133254Z
DTSTART;VALUE=DATE:20230302
DTEND;VALUE=DATE:20230302
SUMMARY:Ausschreibung — Neubau einer Kindertageseinrichtung mit zwei Kindergarten- u
DESCRIPTION:Phase: Ausschreibung | Beschreibung: Offizielle Ausschreibung mit Bieterfrist. | Link: https://ausschreibungsradar.com/ausschreibung/19594704/
URL:https://ausschreibungsradar.com/ausschreibung/19594704/
END:VEVENT
BEGIN:VEVENT
UID:6f35c45ac2af75f3@ausschreibungsradar.com
DTSTAMP:20260424T133254Z
DTSTART;VALUE=DATE:20230302
DTEND;VALUE=DATE:20230302
SUMMARY:Ausschreibung — Neubau einer Kindertageseinrichtung mit zwei Kindergarten- u
DESCRIPTION:Phase: Ausschreibung | Beschreibung: Offizielle Ausschreibung mit Bieterfrist. | Link: https://ausschreibungsradar.com/ausschreibung/19594680/
URL:https://ausschreibungsradar.com/ausschreibung/19594680/
END:VEVENT
END:VCALENDAR
