BEGIN:VCALENDAR
VERSION:2.0
PRODID:-//AusschreibungsRadar//Timeline//DE
CALSCALE:GREGORIAN
METHOD:PUBLISH
X-WR-CALNAME:Projekt Neubau eines Pavillons auf dem Gelände des Heiteichs in Mari
X-WR-TIMEZONE:Europe/Berlin
BEGIN:VEVENT
UID:e29fc05e19eac6e3@ausschreibungsradar.com
DTSTAMP:20260425T155026Z
DTSTART;VALUE=DATE:20230218
DTEND;VALUE=DATE:20230218
SUMMARY:Ausschreibung — Neubau eines Pavillons auf dem Gelände des Heiteichs in Mari
DESCRIPTION:Phase: Ausschreibung | Beschreibung: Offizielle Ausschreibung mit Bieterfrist. | Link: https://ausschreibungsradar.com/ausschreibung/19517070/
URL:https://ausschreibungsradar.com/ausschreibung/19517070/
END:VEVENT
BEGIN:VEVENT
UID:dcb9d9247d31e0be@ausschreibungsradar.com
DTSTAMP:20260425T155026Z
DTSTART;VALUE=DATE:20230218
DTEND;VALUE=DATE:20230218
SUMMARY:Ausschreibung — Neubau eines Pavillons auf dem Gelände des Heiteichs in Mari
DESCRIPTION:Phase: Ausschreibung | Beschreibung: Offizielle Ausschreibung mit Bieterfrist. | Link: https://ausschreibungsradar.com/ausschreibung/19517086/
URL:https://ausschreibungsradar.com/ausschreibung/19517086/
END:VEVENT
END:VCALENDAR
