BEGIN:VCALENDAR
VERSION:2.0
PRODID:-//AusschreibungsRadar//Timeline//DE
CALSCALE:GREGORIAN
METHOD:PUBLISH
X-WR-CALNAME:Projekt Neubau eines Pavillons auf dem Gelände des Heilteichs, hier:
X-WR-TIMEZONE:Europe/Berlin
BEGIN:VEVENT
UID:78193ea38caa854d@ausschreibungsradar.com
DTSTAMP:20260426T034550Z
DTSTART;VALUE=DATE:20230318
DTEND;VALUE=DATE:20230318
SUMMARY:Ausschreibung — Neubau eines Pavillons auf dem Gelände des Heilteichs\, hier:
DESCRIPTION:Phase: Ausschreibung | Beschreibung: Offizielle Ausschreibung mit Bieterfrist. | Link: https://ausschreibungsradar.com/ausschreibung/19685314/
URL:https://ausschreibungsradar.com/ausschreibung/19685314/
END:VEVENT
BEGIN:VEVENT
UID:ad72894af74a4ffb@ausschreibungsradar.com
DTSTAMP:20260426T034550Z
DTSTART;VALUE=DATE:20230318
DTEND;VALUE=DATE:20230318
SUMMARY:Ausschreibung — Neubau eines Pavillons auf dem Gelände des Heilteichs\, hier:
DESCRIPTION:Phase: Ausschreibung | Beschreibung: Offizielle Ausschreibung mit Bieterfrist. | Link: https://ausschreibungsradar.com/ausschreibung/19685318/
URL:https://ausschreibungsradar.com/ausschreibung/19685318/
END:VEVENT
END:VCALENDAR
