BEGIN:VCALENDAR
VERSION:2.0
PRODID:-//AusschreibungsRadar//Timeline//DE
CALSCALE:GREGORIAN
METHOD:PUBLISH
X-WR-CALNAME:Projekt Stuttgart-Marketing GmbH - Europaweite Vergabe von Bauleistu
X-WR-TIMEZONE:Europe/Berlin
BEGIN:VEVENT
UID:bad33c34748e5754@ausschreibungsradar.com
DTSTAMP:20260424T032153Z
DTSTART;VALUE=DATE:20230406
DTEND;VALUE=DATE:20230406
SUMMARY:Ausschreibung — Stuttgart-Marketing GmbH - Europaweite Vergabe von Bauleistu
DESCRIPTION:Phase: Ausschreibung | Beschreibung: Offizielle Ausschreibung mit Bieterfrist. | Link: https://ausschreibungsradar.com/ausschreibung/19799836/
URL:https://ausschreibungsradar.com/ausschreibung/19799836/
END:VEVENT
BEGIN:VEVENT
UID:2555f60c14481799@ausschreibungsradar.com
DTSTAMP:20260424T032153Z
DTSTART;VALUE=DATE:20230407
DTEND;VALUE=DATE:20230407
SUMMARY:Ausschreibung — Stuttgart-Marketing GmbH - Europaweite Vergabe von Bauleistu
DESCRIPTION:Phase: Ausschreibung | Beschreibung: Offizielle Ausschreibung mit Bieterfrist. | Link: https://ausschreibungsradar.com/ausschreibung/19807660/
URL:https://ausschreibungsradar.com/ausschreibung/19807660/
END:VEVENT
END:VCALENDAR
