BEGIN:VCALENDAR
VERSION:2.0
PRODID:-//AusschreibungsRadar//Timeline//DE
CALSCALE:GREGORIAN
METHOD:PUBLISH
X-WR-CALNAME:Projekt Lieferleistungen IT, USV Infrastruktur
X-WR-TIMEZONE:Europe/Berlin
BEGIN:VEVENT
UID:0fdfdf6dd219dd87@ausschreibungsradar.com
DTSTAMP:20260424T203251Z
DTSTART;VALUE=DATE:20230505
DTEND;VALUE=DATE:20230505
SUMMARY:Ausschreibung — Lieferleistungen IT\, USV Infrastruktur
DESCRIPTION:Phase: Ausschreibung | Beschreibung: Offizielle Ausschreibung mit Bieterfrist. | Link: https://ausschreibungsradar.com/ausschreibung/19952722/
URL:https://ausschreibungsradar.com/ausschreibung/19952722/
END:VEVENT
BEGIN:VEVENT
UID:e40d49c4157284e5@ausschreibungsradar.com
DTSTAMP:20260424T203251Z
DTSTART;VALUE=DATE:20230505
DTEND;VALUE=DATE:20230505
SUMMARY:Ausschreibung — Lieferleistungen IT\, USV Infrastruktur
DESCRIPTION:Phase: Ausschreibung | Beschreibung: Offizielle Ausschreibung mit Bieterfrist. | Link: https://ausschreibungsradar.com/ausschreibung/19952738/
URL:https://ausschreibungsradar.com/ausschreibung/19952738/
END:VEVENT
END:VCALENDAR
