BEGIN:VCALENDAR
VERSION:2.0
PRODID:-//AusschreibungsRadar//Timeline//DE
CALSCALE:GREGORIAN
METHOD:PUBLISH
X-WR-CALNAME:Projekt Heizung und Kältetechnik
X-WR-TIMEZONE:Europe/Berlin
BEGIN:VEVENT
UID:9084a86ebfe3d92d@ausschreibungsradar.com
DTSTAMP:20260425T013527Z
DTSTART;VALUE=DATE:20231208
DTEND;VALUE=DATE:20231208
SUMMARY:Angebotsfrist — Heizung und Kältetechnik
DESCRIPTION:Phase: Ausschreibung | Beschreibung: Angebote werden eingeholt | Link: https://ausschreibungsradar.com/ausschreibung/9c2ac083-5aa3-47ae-91c0-8427d298c129/
URL:https://ausschreibungsradar.com/ausschreibung/9c2ac083-5aa3-47ae-91c0-8427d298c129/
END:VEVENT
BEGIN:VEVENT
UID:3639776bc09b3ee2@ausschreibungsradar.com
DTSTAMP:20260425T013527Z
DTSTART;VALUE=DATE:20240311
DTEND;VALUE=DATE:20240311
SUMMARY:Vergabeergebnis — Heizung und Kältetechnik
DESCRIPTION:Phase: Vergabeergebnis | Beschreibung: Auftrag wurde zugeschlagen | Link: https://ausschreibungsradar.com/ausschreibung/19a9d061-2808-42da-b298-e7e709bf4ad1/
URL:https://ausschreibungsradar.com/ausschreibung/19a9d061-2808-42da-b298-e7e709bf4ad1/
END:VEVENT
END:VCALENDAR
