BEGIN:VCALENDAR
VERSION:2.0
PRODID:-//AusschreibungsRadar//Timeline//DE
CALSCALE:GREGORIAN
METHOD:PUBLISH
X-WR-CALNAME:Projekt Transport und Verwertung von Altholz der Kategorie AI-AIII
X-WR-TIMEZONE:Europe/Berlin
BEGIN:VEVENT
UID:1c8bdf1028f9e25e@ausschreibungsradar.com
DTSTAMP:20260425T185021Z
DTSTART;VALUE=DATE:20240227
DTEND;VALUE=DATE:20240227
SUMMARY:Angebotsfrist — Transport und Verwertung von Altholz der Kategorie AI-AIII
DESCRIPTION:Phase: Ausschreibung | Beschreibung: Angebote werden eingeholt | Link: https://ausschreibungsradar.com/ausschreibung/1b8ef035-4396-48d4-a64f-be47fae022b2/
URL:https://ausschreibungsradar.com/ausschreibung/1b8ef035-4396-48d4-a64f-be47fae022b2/
END:VEVENT
END:VCALENDAR
