BEGIN:VCALENDAR
VERSION:2.0
PRODID:-//AusschreibungsRadar//Timeline//DE
CALSCALE:GREGORIAN
METHOD:PUBLISH
X-WR-CALNAME:Projekt Beschaffung eines Staffellöschfahrzeug 20 - Vegetationsbrand
X-WR-TIMEZONE:Europe/Berlin
BEGIN:VEVENT
UID:b1dda458f0f85ed2@ausschreibungsradar.com
DTSTAMP:20260425T151726Z
DTSTART;VALUE=DATE:20251217
DTEND;VALUE=DATE:20251217
SUMMARY:Angebotsfrist — Beschaffung eines Staffellöschfahrzeug 20 - Vegetationsbrand
DESCRIPTION:Phase: Ausschreibung | Beschreibung: Angebote werden eingeholt | Link: https://ausschreibungsradar.com/ausschreibung/1bdf93ed-5f78-4791-a643-ca36aab9002f/
URL:https://ausschreibungsradar.com/ausschreibung/1bdf93ed-5f78-4791-a643-ca36aab9002f/
END:VEVENT
END:VCALENDAR
