BEGIN:VCALENDAR
VERSION:2.0
PRODID:-//AusschreibungsRadar//Timeline//DE
CALSCALE:GREGORIAN
METHOD:PUBLISH
X-WR-CALNAME:Projekt AE - Teilneubau der Grundschule Groß Berkel - Bodenbelagsarb
X-WR-TIMEZONE:Europe/Berlin
BEGIN:VEVENT
UID:92ec40b88e7410e8@ausschreibungsradar.com
DTSTAMP:20260424T081348Z
DTSTART;VALUE=DATE:20250926
DTEND;VALUE=DATE:20250926
SUMMARY:Ausschreibung — AE - Teilneubau der Grundschule Groß Berkel - Bodenbelagsarb
DESCRIPTION:Phase: Ausschreibung | Beschreibung: Offizielle Ausschreibung mit Bieterfrist. | Link: https://ausschreibungsradar.com/ausschreibung/d764e823-8225-4e36-9419-2bb11ad500e3/
URL:https://ausschreibungsradar.com/ausschreibung/d764e823-8225-4e36-9419-2bb11ad500e3/
END:VEVENT
BEGIN:VEVENT
UID:c37b80fe6d8569a5@ausschreibungsradar.com
DTSTAMP:20260424T081348Z
DTSTART;VALUE=DATE:20251007
DTEND;VALUE=DATE:20251007
SUMMARY:Zuschlag — AE - Teilneubau der Grundschule Groß Berkel - Bodenbelagsarb
DESCRIPTION:Phase: Zuschlag | Beschreibung: Vergabeergebnis — Auftrag wurde erteilt oder Verfahren beendet. | Link: https://ausschreibungsradar.com/ausschreibung/1dd3f402-8025-4e47-9df4-ae5521287159/
URL:https://ausschreibungsradar.com/ausschreibung/1dd3f402-8025-4e47-9df4-ae5521287159/
END:VEVENT
BEGIN:VEVENT
UID:cc1c2ffff805a812@ausschreibungsradar.com
DTSTAMP:20260424T081348Z
DTSTART;VALUE=DATE:20251013
DTEND;VALUE=DATE:20251013
SUMMARY:Zuschlag — AE - Teilneubau der Grundschule Groß Berkel - Bodenbelagsarb
DESCRIPTION:Phase: Zuschlag | Beschreibung: Vergabeergebnis — Auftrag wurde erteilt oder Verfahren beendet. | Link: https://ausschreibungsradar.com/ausschreibung/7d4f8784-e6ed-453d-b2bf-dda94cc8c215/
URL:https://ausschreibungsradar.com/ausschreibung/7d4f8784-e6ed-453d-b2bf-dda94cc8c215/
END:VEVENT
BEGIN:VEVENT
UID:3afb37440c998397@ausschreibungsradar.com
DTSTAMP:20260424T081348Z
DTSTART;VALUE=DATE:20251017
DTEND;VALUE=DATE:20251017
SUMMARY:Zuschlag — AE - Teilneubau der Grundschule Groß Berkel - Bodenbelagsarb
DESCRIPTION:Phase: Zuschlag | Beschreibung: Vergabeergebnis — Auftrag wurde erteilt oder Verfahren beendet. | Link: https://ausschreibungsradar.com/ausschreibung/0c64f454-01b3-499c-a3c3-c2faa337ee7c/
URL:https://ausschreibungsradar.com/ausschreibung/0c64f454-01b3-499c-a3c3-c2faa337ee7c/
END:VEVENT
BEGIN:VEVENT
UID:d8bc274f41da59a9@ausschreibungsradar.com
DTSTAMP:20260424T081348Z
DTSTART;VALUE=DATE:20251125
DTEND;VALUE=DATE:20251125
SUMMARY:Angebotsfrist — AE - Teilneubau der Grundschule Groß Berkel - Bodenbelagsarb
DESCRIPTION:Phase: Ausschreibung | Beschreibung: Angebote werden eingeholt | Link: https://ausschreibungsradar.com/ausschreibung/1d50b694-65ee-45e5-b36a-1aaa7d91dcab/
URL:https://ausschreibungsradar.com/ausschreibung/1d50b694-65ee-45e5-b36a-1aaa7d91dcab/
END:VEVENT
BEGIN:VEVENT
UID:1c802404472301dd@ausschreibungsradar.com
DTSTAMP:20260424T081348Z
DTSTART;VALUE=DATE:20260303
DTEND;VALUE=DATE:20260303
SUMMARY:Vergabeergebnis — AE - Teilneubau der Grundschule Groß Berkel - Bodenbelagsarb
DESCRIPTION:Phase: Vergabeergebnis | Beschreibung: Auftrag wurde zugeschlagen | Link: https://ausschreibungsradar.com/ausschreibung/fd8d5fd7-5bf0-4218-be49-b451b4b42a10/
URL:https://ausschreibungsradar.com/ausschreibung/fd8d5fd7-5bf0-4218-be49-b451b4b42a10/
END:VEVENT
END:VCALENDAR
