BEGIN:VCALENDAR
VERSION:2.0
PRODID:-//AusschreibungsRadar//Timeline//DE
CALSCALE:GREGORIAN
METHOD:PUBLISH
X-WR-CALNAME:Projekt Neubau Feuerwehrgerätehaus Ramsdorf - Objektpl. Gebäude & Fa
X-WR-TIMEZONE:Europe/Berlin
BEGIN:VEVENT
UID:40e201fdfb0111a7@ausschreibungsradar.com
DTSTAMP:20260425T020448Z
DTSTART;VALUE=DATE:20260116
DTEND;VALUE=DATE:20260116
SUMMARY:Ausschreibung — Neubau Feuerwehrgerätehaus Ramsdorf - Objektpl. Gebäude & Fa
DESCRIPTION:Phase: Ausschreibung | Beschreibung: Angebote werden eingeholt | Link: https://ausschreibungsradar.com/ausschreibung/1dc77bc8-b869-46cf-8e2d-f7de2cbfbd98/
URL:https://ausschreibungsradar.com/ausschreibung/1dc77bc8-b869-46cf-8e2d-f7de2cbfbd98/
END:VEVENT
BEGIN:VEVENT
UID:aef3e2582eba17cc@ausschreibungsradar.com
DTSTAMP:20260425T020448Z
DTSTART;VALUE=DATE:20260116
DTEND;VALUE=DATE:20260116
SUMMARY:Ausschreibung — Neubau Feuerwehrgerätehaus Ramsdorf - Objektpl. Gebäude & Fa
DESCRIPTION:Phase: Ausschreibung | Beschreibung: Offizielle Ausschreibung mit Bieterfrist. | Link: https://ausschreibungsradar.com/ausschreibung/3eb18c28-5b0f-4d29-8a91-76660d7d2dcc/
URL:https://ausschreibungsradar.com/ausschreibung/3eb18c28-5b0f-4d29-8a91-76660d7d2dcc/
END:VEVENT
END:VCALENDAR
