BEGIN:VCALENDAR
VERSION:2.0
PRODID:-//AusschreibungsRadar//Timeline//DE
CALSCALE:GREGORIAN
METHOD:PUBLISH
X-WR-CALNAME:Projekt Spezielle Kopierpapiere und Kopierkartons
X-WR-TIMEZONE:Europe/Berlin
BEGIN:VEVENT
UID:871ba42dec812104@ausschreibungsradar.com
DTSTAMP:20260424T053032Z
DTSTART;VALUE=DATE:20250707
DTEND;VALUE=DATE:20250707
SUMMARY:Ausschreibung — Spezielle Kopierpapiere und Kopierkartons
DESCRIPTION:Phase: Ausschreibung | Beschreibung: Angebote werden eingeholt | Link: https://ausschreibungsradar.com/ausschreibung/1de3ea9c-037b-409a-810a-bb336ad8f072/
URL:https://ausschreibungsradar.com/ausschreibung/1de3ea9c-037b-409a-810a-bb336ad8f072/
END:VEVENT
BEGIN:VEVENT
UID:d40e61cedcade10e@ausschreibungsradar.com
DTSTAMP:20260424T053032Z
DTSTART;VALUE=DATE:20250707
DTEND;VALUE=DATE:20250707
SUMMARY:Ausschreibung — Spezielle Kopierpapiere und Kopierkartons
DESCRIPTION:Phase: Ausschreibung | Beschreibung: Offizielle Ausschreibung mit Bieterfrist. | Link: https://ausschreibungsradar.com/ausschreibung/acea7aa7-a517-485c-85b7-62cf2c16ab5f/
URL:https://ausschreibungsradar.com/ausschreibung/acea7aa7-a517-485c-85b7-62cf2c16ab5f/
END:VEVENT
BEGIN:VEVENT
UID:604853d1e6f326f1@ausschreibungsradar.com
DTSTAMP:20260424T053032Z
DTSTART;VALUE=DATE:20251028
DTEND;VALUE=DATE:20251028
SUMMARY:Vergabeergebnis — Spezielle Kopierpapiere und Kopierkartons
DESCRIPTION:Phase: Vergabeergebnis | Beschreibung: Auftrag wurde zugeschlagen | Link: https://ausschreibungsradar.com/ausschreibung/d57c6196-38ef-4cdc-98ad-df62e3db25f9/
URL:https://ausschreibungsradar.com/ausschreibung/d57c6196-38ef-4cdc-98ad-df62e3db25f9/
END:VEVENT
END:VCALENDAR
