BEGIN:VCALENDAR
VERSION:2.0
PRODID:-//AusschreibungsRadar//Timeline//DE
CALSCALE:GREGORIAN
METHOD:PUBLISH
X-WR-CALNAME:Projekt Vergabe der Lieferleistung Da Vinci Xi System
X-WR-TIMEZONE:Europe/Berlin
BEGIN:VEVENT
UID:a2b8e66605cfd40e@ausschreibungsradar.com
DTSTAMP:20260425T231744Z
DTSTART;VALUE=DATE:20251128
DTEND;VALUE=DATE:20251128
SUMMARY:Direktvergabe-Ankündigung — Vergabe der Lieferleistung Da Vinci Xi System
DESCRIPTION:Phase: Direktvergabe-Ankündigung | Beschreibung: Geplante Direktvergabe (VEAT) — 10 Tage Stillhaltefrist | Link: https://ausschreibungsradar.com/ausschreibung/1ee859da-3ff9-42c9-9ae1-d5ee94b7830e/
URL:https://ausschreibungsradar.com/ausschreibung/1ee859da-3ff9-42c9-9ae1-d5ee94b7830e/
END:VEVENT
BEGIN:VEVENT
UID:ab6957d33dc1bfb1@ausschreibungsradar.com
DTSTAMP:20260425T231744Z
DTSTART;VALUE=DATE:20251216
DTEND;VALUE=DATE:20251216
SUMMARY:Vergabeergebnis — Vergabe der Lieferleistung Da Vinci Xi System
DESCRIPTION:Phase: Vergabeergebnis | Beschreibung: Auftrag wurde zugeschlagen | Link: https://ausschreibungsradar.com/ausschreibung/a4f68c3d-f5da-438b-83dc-c445e33acbd2/ | Geschätzter Wert: 0 €
URL:https://ausschreibungsradar.com/ausschreibung/a4f68c3d-f5da-438b-83dc-c445e33acbd2/
END:VEVENT
END:VCALENDAR
