BEGIN:VCALENDAR
VERSION:2.0
PRODID:-//AusschreibungsRadar//Timeline//DE
CALSCALE:GREGORIAN
METHOD:PUBLISH
X-WR-CALNAME:Projekt Fassadensanierung am Gebäude An der Bahn 28 in der Gemeinde 
X-WR-TIMEZONE:Europe/Berlin
BEGIN:VEVENT
UID:98b2cc6e0dc2f2a3@ausschreibungsradar.com
DTSTAMP:20260424T152635Z
DTSTART;VALUE=DATE:20230519
DTEND;VALUE=DATE:20230519
SUMMARY:Ausschreibung — Fassadensanierung am Gebäude An der Bahn 28 in der Gemeinde 
DESCRIPTION:Phase: Ausschreibung | Beschreibung: Offizielle Ausschreibung mit Bieterfrist. | Link: https://ausschreibungsradar.com/ausschreibung/20033240/
URL:https://ausschreibungsradar.com/ausschreibung/20033240/
END:VEVENT
BEGIN:VEVENT
UID:7920b145d8a03bd0@ausschreibungsradar.com
DTSTAMP:20260424T152635Z
DTSTART;VALUE=DATE:20230522
DTEND;VALUE=DATE:20230522
SUMMARY:Ausschreibung — Fassadensanierung am Gebäude An der Bahn 28 in der Gemeinde 
DESCRIPTION:Phase: Ausschreibung | Beschreibung: Offizielle Ausschreibung mit Bieterfrist. | Link: https://ausschreibungsradar.com/ausschreibung/20039106/
URL:https://ausschreibungsradar.com/ausschreibung/20039106/
END:VEVENT
END:VCALENDAR
