BEGIN:VCALENDAR
VERSION:2.0
PRODID:-//AusschreibungsRadar//Timeline//DE
CALSCALE:GREGORIAN
METHOD:PUBLISH
X-WR-CALNAME:Projekt Lieferleistungen Chromebooks
X-WR-TIMEZONE:Europe/Berlin
BEGIN:VEVENT
UID:fa864495f121ffe9@ausschreibungsradar.com
DTSTAMP:20260424T124358Z
DTSTART;VALUE=DATE:20230508
DTEND;VALUE=DATE:20230508
SUMMARY:Ausschreibung — Lieferleistungen Chromebooks
DESCRIPTION:Phase: Ausschreibung | Beschreibung: Offizielle Ausschreibung mit Bieterfrist. | Link: https://ausschreibungsradar.com/ausschreibung/19963948/
URL:https://ausschreibungsradar.com/ausschreibung/19963948/
END:VEVENT
BEGIN:VEVENT
UID:c432a4728b3a9c16@ausschreibungsradar.com
DTSTAMP:20260424T124358Z
DTSTART;VALUE=DATE:20230531
DTEND;VALUE=DATE:20230531
SUMMARY:Ausschreibung — Lieferleistungen Chromebooks
DESCRIPTION:Phase: Ausschreibung | Beschreibung: Offizielle Ausschreibung mit Bieterfrist. | Link: https://ausschreibungsradar.com/ausschreibung/20091012/
URL:https://ausschreibungsradar.com/ausschreibung/20091012/
END:VEVENT
END:VCALENDAR
