BEGIN:VCALENDAR
VERSION:2.0
PRODID:-//AusschreibungsRadar//Timeline//DE
CALSCALE:GREGORIAN
METHOD:PUBLISH
X-WR-CALNAME:Projekt Durchführung der Befragung „Künstliche Intelligenz im Betrie
X-WR-TIMEZONE:Europe/Berlin
BEGIN:VEVENT
UID:0056645e41fb4792@ausschreibungsradar.com
DTSTAMP:20260426T002352Z
DTSTART;VALUE=DATE:20230509
DTEND;VALUE=DATE:20230509
SUMMARY:Ausschreibung — Durchführung der Befragung „Künstliche Intelligenz im Betrie
DESCRIPTION:Phase: Ausschreibung | Beschreibung: Offizielle Ausschreibung mit Bieterfrist. | Link: https://ausschreibungsradar.com/ausschreibung/19971004/
URL:https://ausschreibungsradar.com/ausschreibung/19971004/
END:VEVENT
BEGIN:VEVENT
UID:07b5d5abdcb66e26@ausschreibungsradar.com
DTSTAMP:20260426T002352Z
DTSTART;VALUE=DATE:20230606
DTEND;VALUE=DATE:20230606
SUMMARY:Ausschreibung — Durchführung der Befragung „Künstliche Intelligenz im Betrie
DESCRIPTION:Phase: Ausschreibung | Beschreibung: Offizielle Ausschreibung mit Bieterfrist. | Link: https://ausschreibungsradar.com/ausschreibung/20125666/
URL:https://ausschreibungsradar.com/ausschreibung/20125666/
END:VEVENT
END:VCALENDAR
