BEGIN:VCALENDAR
VERSION:2.0
PRODID:-//AusschreibungsRadar//Timeline//DE
CALSCALE:GREGORIAN
METHOD:PUBLISH
X-WR-CALNAME:Projekt Teilsanierung der Kindertageseinrichtung "Burgsteingeister" 
X-WR-TIMEZONE:Europe/Berlin
BEGIN:VEVENT
UID:fe9b723960bb6769@ausschreibungsradar.com
DTSTAMP:20260426T021148Z
DTSTART;VALUE=DATE:20230717
DTEND;VALUE=DATE:20230717
SUMMARY:Ausschreibung — Teilsanierung der Kindertageseinrichtung "Burgsteingeister" 
DESCRIPTION:Phase: Ausschreibung | Beschreibung: Offizielle Ausschreibung mit Bieterfrist. | Link: https://ausschreibungsradar.com/ausschreibung/20389574/
URL:https://ausschreibungsradar.com/ausschreibung/20389574/
END:VEVENT
BEGIN:VEVENT
UID:91e5d14976506b80@ausschreibungsradar.com
DTSTAMP:20260426T021148Z
DTSTART;VALUE=DATE:20230717
DTEND;VALUE=DATE:20230717
SUMMARY:Ausschreibung — Teilsanierung der Kindertageseinrichtung "Burgsteingeister" 
DESCRIPTION:Phase: Ausschreibung | Beschreibung: Offizielle Ausschreibung mit Bieterfrist. | Link: https://ausschreibungsradar.com/ausschreibung/20389582/
URL:https://ausschreibungsradar.com/ausschreibung/20389582/
END:VEVENT
END:VCALENDAR
