BEGIN:VCALENDAR
VERSION:2.0
PRODID:-//AusschreibungsRadar//Timeline//DE
CALSCALE:GREGORIAN
METHOD:PUBLISH
X-WR-CALNAME:Projekt Sanierung Bienwaldstadion
X-WR-TIMEZONE:Europe/Berlin
BEGIN:VEVENT
UID:6ac9c927c941f360@ausschreibungsradar.com
DTSTAMP:20260424T103511Z
DTSTART;VALUE=DATE:20230706
DTEND;VALUE=DATE:20230706
SUMMARY:Ausschreibung — Sanierung Bienwaldstadion
DESCRIPTION:Phase: Ausschreibung | Beschreibung: Offizielle Ausschreibung mit Bieterfrist. | Link: https://ausschreibungsradar.com/ausschreibung/20300526/
URL:https://ausschreibungsradar.com/ausschreibung/20300526/
END:VEVENT
BEGIN:VEVENT
UID:08652208bb8ec3d5@ausschreibungsradar.com
DTSTAMP:20260424T103511Z
DTSTART;VALUE=DATE:20230706
DTEND;VALUE=DATE:20230706
SUMMARY:Ausschreibung — Sanierung Bienwaldstadion
DESCRIPTION:Phase: Ausschreibung | Beschreibung: Offizielle Ausschreibung mit Bieterfrist. | Link: https://ausschreibungsradar.com/ausschreibung/20300686/
URL:https://ausschreibungsradar.com/ausschreibung/20300686/
END:VEVENT
BEGIN:VEVENT
UID:d6db4c861bdc61fc@ausschreibungsradar.com
DTSTAMP:20260424T103511Z
DTSTART;VALUE=DATE:20230804
DTEND;VALUE=DATE:20230804
SUMMARY:Ausschreibung — Sanierung Bienwaldstadion
DESCRIPTION:Phase: Ausschreibung | Beschreibung: Offizielle Ausschreibung mit Bieterfrist. | Link: https://ausschreibungsradar.com/ausschreibung/20627446/
URL:https://ausschreibungsradar.com/ausschreibung/20627446/
END:VEVENT
BEGIN:VEVENT
UID:0a83e8953a54cc81@ausschreibungsradar.com
DTSTAMP:20260424T103511Z
DTSTART;VALUE=DATE:20230804
DTEND;VALUE=DATE:20230804
SUMMARY:Ausschreibung — Sanierung Bienwaldstadion
DESCRIPTION:Phase: Ausschreibung | Beschreibung: Offizielle Ausschreibung mit Bieterfrist. | Link: https://ausschreibungsradar.com/ausschreibung/20627486/
URL:https://ausschreibungsradar.com/ausschreibung/20627486/
END:VEVENT
BEGIN:VEVENT
UID:9038a7f41a57f18c@ausschreibungsradar.com
DTSTAMP:20260424T103511Z
DTSTART;VALUE=DATE:20230811
DTEND;VALUE=DATE:20230811
SUMMARY:Ausschreibung — Sanierung Bienwaldstadion
DESCRIPTION:Phase: Ausschreibung | Beschreibung: Offizielle Ausschreibung mit Bieterfrist. | Link: https://ausschreibungsradar.com/ausschreibung/20669292/
URL:https://ausschreibungsradar.com/ausschreibung/20669292/
END:VEVENT
BEGIN:VEVENT
UID:242dee81ec95b1cf@ausschreibungsradar.com
DTSTAMP:20260424T103511Z
DTSTART;VALUE=DATE:20230811
DTEND;VALUE=DATE:20230811
SUMMARY:Ausschreibung — Sanierung Bienwaldstadion
DESCRIPTION:Phase: Ausschreibung | Beschreibung: Offizielle Ausschreibung mit Bieterfrist. | Link: https://ausschreibungsradar.com/ausschreibung/20669252/
URL:https://ausschreibungsradar.com/ausschreibung/20669252/
END:VEVENT
END:VCALENDAR
