BEGIN:VCALENDAR
VERSION:2.0
PRODID:-//AusschreibungsRadar//Timeline//DE
CALSCALE:GREGORIAN
METHOD:PUBLISH
X-WR-CALNAME:Projekt 2023-002-BV101600-BL440
X-WR-TIMEZONE:Europe/Berlin
BEGIN:VEVENT
UID:ac03bfdb793dfb8f@ausschreibungsradar.com
DTSTAMP:20260425T010800Z
DTSTART;VALUE=DATE:20230823
DTEND;VALUE=DATE:20230823
SUMMARY:Ausschreibung — 2023-002-BV101600-BL440
DESCRIPTION:Phase: Ausschreibung | Beschreibung: Offizielle Ausschreibung mit Bieterfrist. | Link: https://ausschreibungsradar.com/ausschreibung/20737748/
URL:https://ausschreibungsradar.com/ausschreibung/20737748/
END:VEVENT
BEGIN:VEVENT
UID:de7e14decde9fac3@ausschreibungsradar.com
DTSTAMP:20260425T010800Z
DTSTART;VALUE=DATE:20230823
DTEND;VALUE=DATE:20230823
SUMMARY:Ausschreibung — 2023-002-BV101600-BL440
DESCRIPTION:Phase: Ausschreibung | Beschreibung: Offizielle Ausschreibung mit Bieterfrist. | Link: https://ausschreibungsradar.com/ausschreibung/20737724/
URL:https://ausschreibungsradar.com/ausschreibung/20737724/
END:VEVENT
END:VCALENDAR
