BEGIN:VCALENDAR
VERSION:2.0
PRODID:-//AusschreibungsRadar//Timeline//DE
CALSCALE:GREGORIAN
METHOD:PUBLISH
X-WR-CALNAME:Projekt HKG 22-001_04 Kurzzeitpflege Trockenbau Wände
X-WR-TIMEZONE:Europe/Berlin
BEGIN:VEVENT
UID:799851e02192e6fb@ausschreibungsradar.com
DTSTAMP:20260424T080731Z
DTSTART;VALUE=DATE:20230823
DTEND;VALUE=DATE:20230823
SUMMARY:Ausschreibung — HKG 22-001_04 Kurzzeitpflege Trockenbau Wände
DESCRIPTION:Phase: Ausschreibung | Beschreibung: Offizielle Ausschreibung mit Bieterfrist. | Link: https://ausschreibungsradar.com/ausschreibung/20741654/
URL:https://ausschreibungsradar.com/ausschreibung/20741654/
END:VEVENT
BEGIN:VEVENT
UID:a2928e5b68667caf@ausschreibungsradar.com
DTSTAMP:20260424T080731Z
DTSTART;VALUE=DATE:20230823
DTEND;VALUE=DATE:20230823
SUMMARY:Ausschreibung — HKG 22-001_04 Kurzzeitpflege Trockenbau Wände
DESCRIPTION:Phase: Ausschreibung | Beschreibung: Offizielle Ausschreibung mit Bieterfrist. | Link: https://ausschreibungsradar.com/ausschreibung/20741658/
URL:https://ausschreibungsradar.com/ausschreibung/20741658/
END:VEVENT
END:VCALENDAR
