BEGIN:VCALENDAR
VERSION:2.0
PRODID:-//AusschreibungsRadar//Timeline//DE
CALSCALE:GREGORIAN
METHOD:PUBLISH
X-WR-CALNAME:Projekt Kita Starnberg - Planungsleistungen Technische Ausrüstung AL
X-WR-TIMEZONE:Europe/Berlin
BEGIN:VEVENT
UID:69c30b52d1305899@ausschreibungsradar.com
DTSTAMP:20260424T071213Z
DTSTART;VALUE=DATE:20230829
DTEND;VALUE=DATE:20230829
SUMMARY:Ausschreibung — Kita Starnberg - Planungsleistungen Technische Ausrüstung AL
DESCRIPTION:Phase: Ausschreibung | Beschreibung: Offizielle Ausschreibung mit Bieterfrist. | Link: https://ausschreibungsradar.com/ausschreibung/20762600/
URL:https://ausschreibungsradar.com/ausschreibung/20762600/
END:VEVENT
BEGIN:VEVENT
UID:154bd1602b9b1303@ausschreibungsradar.com
DTSTAMP:20260424T071213Z
DTSTART;VALUE=DATE:20230829
DTEND;VALUE=DATE:20230829
SUMMARY:Ausschreibung — Kita Starnberg - Planungsleistungen Technische Ausrüstung AL
DESCRIPTION:Phase: Ausschreibung | Beschreibung: Offizielle Ausschreibung mit Bieterfrist. | Link: https://ausschreibungsradar.com/ausschreibung/20762596/
URL:https://ausschreibungsradar.com/ausschreibung/20762596/
END:VEVENT
END:VCALENDAR
