BEGIN:VCALENDAR
VERSION:2.0
PRODID:-//AusschreibungsRadar//Timeline//DE
CALSCALE:GREGORIAN
METHOD:PUBLISH
X-WR-CALNAME:Projekt Haus des Tourismus Stuttgart
X-WR-TIMEZONE:Europe/Berlin
BEGIN:VEVENT
UID:eaa4b31b9b67da7a@ausschreibungsradar.com
DTSTAMP:20260424T032310Z
DTSTART;VALUE=DATE:20230901
DTEND;VALUE=DATE:20230901
SUMMARY:Ausschreibung — Haus des Tourismus Stuttgart
DESCRIPTION:Phase: Ausschreibung | Beschreibung: Offizielle Ausschreibung mit Bieterfrist. | Link: https://ausschreibungsradar.com/ausschreibung/20782022/
URL:https://ausschreibungsradar.com/ausschreibung/20782022/
END:VEVENT
BEGIN:VEVENT
UID:99b6aacad2628641@ausschreibungsradar.com
DTSTAMP:20260424T032310Z
DTSTART;VALUE=DATE:20230907
DTEND;VALUE=DATE:20230907
SUMMARY:Ausschreibung — Haus des Tourismus Stuttgart
DESCRIPTION:Phase: Ausschreibung | Beschreibung: Offizielle Ausschreibung mit Bieterfrist. | Link: https://ausschreibungsradar.com/ausschreibung/20814426/
URL:https://ausschreibungsradar.com/ausschreibung/20814426/
END:VEVENT
END:VCALENDAR
