BEGIN:VCALENDAR
VERSION:2.0
PRODID:-//AusschreibungsRadar//Timeline//DE
CALSCALE:GREGORIAN
METHOD:PUBLISH
X-WR-CALNAME:Projekt Küche
X-WR-TIMEZONE:Europe/Berlin
BEGIN:VEVENT
UID:ac83573f9ccd1044@ausschreibungsradar.com
DTSTAMP:20260426T032241Z
DTSTART;VALUE=DATE:20230927
DTEND;VALUE=DATE:20230927
SUMMARY:Ausschreibung — Küche
DESCRIPTION:Phase: Ausschreibung | Beschreibung: Offizielle Ausschreibung mit Bieterfrist. | Link: https://ausschreibungsradar.com/ausschreibung/20924774/
URL:https://ausschreibungsradar.com/ausschreibung/20924774/
END:VEVENT
BEGIN:VEVENT
UID:d9e5f4d0ba297a77@ausschreibungsradar.com
DTSTAMP:20260426T032241Z
DTSTART;VALUE=DATE:20231026
DTEND;VALUE=DATE:20231026
SUMMARY:Ausschreibung — Küche
DESCRIPTION:Phase: Ausschreibung | Beschreibung: Offizielle Ausschreibung mit Bieterfrist. | Link: https://ausschreibungsradar.com/ausschreibung/21073596/
URL:https://ausschreibungsradar.com/ausschreibung/21073596/
END:VEVENT
END:VCALENDAR
