BEGIN:VCALENDAR
VERSION:2.0
PRODID:-//AusschreibungsRadar//Timeline//DE
CALSCALE:GREGORIAN
METHOD:PUBLISH
X-WR-CALNAME:Projekt Elektrotechnik und MSR
X-WR-TIMEZONE:Europe/Berlin
BEGIN:VEVENT
UID:63928e1462ca94d9@ausschreibungsradar.com
DTSTAMP:20260423T230003Z
DTSTART;VALUE=DATE:20231009
DTEND;VALUE=DATE:20231009
SUMMARY:Ausschreibung — Elektrotechnik und MSR
DESCRIPTION:Phase: Ausschreibung | Beschreibung: Offizielle Ausschreibung mit Bieterfrist. | Link: https://ausschreibungsradar.com/ausschreibung/20979240/
URL:https://ausschreibungsradar.com/ausschreibung/20979240/
END:VEVENT
BEGIN:VEVENT
UID:7728e943b1eedea4@ausschreibungsradar.com
DTSTAMP:20260423T230003Z
DTSTART;VALUE=DATE:20231009
DTEND;VALUE=DATE:20231009
SUMMARY:Ausschreibung — Elektrotechnik und MSR
DESCRIPTION:Phase: Ausschreibung | Beschreibung: Offizielle Ausschreibung mit Bieterfrist. | Link: https://ausschreibungsradar.com/ausschreibung/20979268/
URL:https://ausschreibungsradar.com/ausschreibung/20979268/
END:VEVENT
END:VCALENDAR
