BEGIN:VCALENDAR
VERSION:2.0
PRODID:-//AusschreibungsRadar//Timeline//DE
CALSCALE:GREGORIAN
METHOD:PUBLISH
X-WR-CALNAME:Projekt Rahmenvereinbarung für Webdienstleistungen
X-WR-TIMEZONE:Europe/Berlin
BEGIN:VEVENT
UID:e4585c78a1dda165@ausschreibungsradar.com
DTSTAMP:20260425T010810Z
DTSTART;VALUE=DATE:20230928
DTEND;VALUE=DATE:20230928
SUMMARY:Ausschreibung — Rahmenvereinbarung für Webdienstleistungen
DESCRIPTION:Phase: Ausschreibung | Beschreibung: Offizielle Ausschreibung mit Bieterfrist. | Link: https://ausschreibungsradar.com/ausschreibung/20933932/
URL:https://ausschreibungsradar.com/ausschreibung/20933932/
END:VEVENT
BEGIN:VEVENT
UID:68783e349022b9e9@ausschreibungsradar.com
DTSTAMP:20260425T010810Z
DTSTART;VALUE=DATE:20231011
DTEND;VALUE=DATE:20231011
SUMMARY:Ausschreibung — Rahmenvereinbarung für Webdienstleistungen
DESCRIPTION:Phase: Ausschreibung | Beschreibung: Offizielle Ausschreibung mit Bieterfrist. | Link: https://ausschreibungsradar.com/ausschreibung/20991950/
URL:https://ausschreibungsradar.com/ausschreibung/20991950/
END:VEVENT
END:VCALENDAR
