BEGIN:VCALENDAR
VERSION:2.0
PRODID:-//AusschreibungsRadar//Timeline//DE
CALSCALE:GREGORIAN
METHOD:PUBLISH
X-WR-CALNAME:Projekt Offenes Verfahren (EU-weit) zur Vergabe von Dienstleistungen
X-WR-TIMEZONE:Europe/Berlin
BEGIN:VEVENT
UID:8ad1d09750ade74d@ausschreibungsradar.com
DTSTAMP:20260424T152728Z
DTSTART;VALUE=DATE:20251002
DTEND;VALUE=DATE:20251002
SUMMARY:Ausschreibung — Offenes Verfahren (EU-weit) zur Vergabe von Dienstleistungen
DESCRIPTION:Phase: Ausschreibung | Beschreibung: Angebote werden eingeholt | Link: https://ausschreibungsradar.com/ausschreibung/1de2fb10-1497-47f9-bbc8-0673516f3b57/
URL:https://ausschreibungsradar.com/ausschreibung/1de2fb10-1497-47f9-bbc8-0673516f3b57/
END:VEVENT
BEGIN:VEVENT
UID:e43bff30a6bb16d6@ausschreibungsradar.com
DTSTAMP:20260424T152728Z
DTSTART;VALUE=DATE:20251002
DTEND;VALUE=DATE:20251002
SUMMARY:Ausschreibung — Offenes Verfahren (EU-weit) zur Vergabe von Dienstleistungen
DESCRIPTION:Phase: Ausschreibung | Beschreibung: Offizielle Ausschreibung mit Bieterfrist. | Link: https://ausschreibungsradar.com/ausschreibung/f327009e-e04b-4ec5-a65e-b7ea1cc58424/
URL:https://ausschreibungsradar.com/ausschreibung/f327009e-e04b-4ec5-a65e-b7ea1cc58424/
END:VEVENT
BEGIN:VEVENT
UID:2c63fafee435a761@ausschreibungsradar.com
DTSTAMP:20260424T152728Z
DTSTART;VALUE=DATE:20260105
DTEND;VALUE=DATE:20260105
SUMMARY:Ausschreibung — Offenes Verfahren (EU-weit) zur Vergabe von Dienstleistungen
DESCRIPTION:Phase: Ausschreibung | Beschreibung: Offizielle Ausschreibung mit Bieterfrist. | Link: https://ausschreibungsradar.com/ausschreibung/e1d6a668-1531-4b97-b08e-c6d819196913/
URL:https://ausschreibungsradar.com/ausschreibung/e1d6a668-1531-4b97-b08e-c6d819196913/
END:VEVENT
BEGIN:VEVENT
UID:91edc5631f12280e@ausschreibungsradar.com
DTSTAMP:20260424T152728Z
DTSTART;VALUE=DATE:20260105
DTEND;VALUE=DATE:20260105
SUMMARY:Ausschreibung — Offenes Verfahren (EU-weit) zur Vergabe von Dienstleistungen
DESCRIPTION:Phase: Ausschreibung | Beschreibung: Offizielle Ausschreibung mit Bieterfrist. | Link: https://ausschreibungsradar.com/ausschreibung/a04e1f28-ae1d-48b6-a83b-7133ce6a3a16/
URL:https://ausschreibungsradar.com/ausschreibung/a04e1f28-ae1d-48b6-a83b-7133ce6a3a16/
END:VEVENT
BEGIN:VEVENT
UID:c22b393764e6ebcc@ausschreibungsradar.com
DTSTAMP:20260424T152728Z
DTSTART;VALUE=DATE:20260109
DTEND;VALUE=DATE:20260109
SUMMARY:Vergabeergebnis — Offenes Verfahren (EU-weit) zur Vergabe von Dienstleistungen
DESCRIPTION:Phase: Vergabeergebnis | Beschreibung: Auftrag wurde zugeschlagen | Link: https://ausschreibungsradar.com/ausschreibung/2115708c-bab4-4bfa-9c7c-fe9c06aff2f1/
URL:https://ausschreibungsradar.com/ausschreibung/2115708c-bab4-4bfa-9c7c-fe9c06aff2f1/
END:VEVENT
BEGIN:VEVENT
UID:198a2d16bbbc4ef8@ausschreibungsradar.com
DTSTAMP:20260424T152728Z
DTSTART;VALUE=DATE:20260114
DTEND;VALUE=DATE:20260114
SUMMARY:Ausschreibung — Offenes Verfahren (EU-weit) zur Vergabe von Dienstleistungen
DESCRIPTION:Phase: Ausschreibung | Beschreibung: Offizielle Ausschreibung mit Bieterfrist. | Link: https://ausschreibungsradar.com/ausschreibung/d885750b-1e28-4e5a-ac65-f14c53af0336/
URL:https://ausschreibungsradar.com/ausschreibung/d885750b-1e28-4e5a-ac65-f14c53af0336/
END:VEVENT
END:VCALENDAR
