BEGIN:VCALENDAR
VERSION:2.0
PRODID:-//AusschreibungsRadar//Timeline//DE
CALSCALE:GREGORIAN
METHOD:PUBLISH
X-WR-CALNAME:Projekt Öffentliche Ausschreibung für einen IT-Service Rahmenvertrag
X-WR-TIMEZONE:Europe/Berlin
BEGIN:VEVENT
UID:3f6f79666cf1e7cd@ausschreibungsradar.com
DTSTAMP:20260423T232602Z
DTSTART;VALUE=DATE:20231121
DTEND;VALUE=DATE:20231121
SUMMARY:Ausschreibung — Öffentliche Ausschreibung für einen IT-Service Rahmenvertrag
DESCRIPTION:Phase: Ausschreibung | Beschreibung: Offizielle Ausschreibung mit Bieterfrist. | Link: https://ausschreibungsradar.com/ausschreibung/21205120/
URL:https://ausschreibungsradar.com/ausschreibung/21205120/
END:VEVENT
BEGIN:VEVENT
UID:b0f9ca3c06f9263f@ausschreibungsradar.com
DTSTAMP:20260423T232602Z
DTSTART;VALUE=DATE:20231204
DTEND;VALUE=DATE:20231204
SUMMARY:Ausschreibung — Öffentliche Ausschreibung für einen IT-Service Rahmenvertrag
DESCRIPTION:Phase: Ausschreibung | Beschreibung: Offizielle Ausschreibung mit Bieterfrist. | Link: https://ausschreibungsradar.com/ausschreibung/21266078/
URL:https://ausschreibungsradar.com/ausschreibung/21266078/
END:VEVENT
END:VCALENDAR
