BEGIN:VCALENDAR
VERSION:2.0
PRODID:-//AusschreibungsRadar//Timeline//DE
CALSCALE:GREGORIAN
METHOD:PUBLISH
X-WR-CALNAME:Projekt Lieferung Federringe, Kragenbuchse und/oder Zwischenplatten 
X-WR-TIMEZONE:Europe/Berlin
BEGIN:VEVENT
UID:5fd89b4dcfc0e211@ausschreibungsradar.com
DTSTAMP:20260424T060329Z
DTSTART;VALUE=DATE:20240110
DTEND;VALUE=DATE:20240110
SUMMARY:Zuschlag — Lieferung Federringe\, Kragenbuchse und/oder Zwischenplatten 
DESCRIPTION:Phase: Zuschlag | Beschreibung: Vergabeergebnis — Auftrag wurde erteilt oder Verfahren beendet. | Link: https://ausschreibungsradar.com/ausschreibung/21412970/
URL:https://ausschreibungsradar.com/ausschreibung/21412970/
END:VEVENT
BEGIN:VEVENT
UID:0ae91e0a3d6a5ce2@ausschreibungsradar.com
DTSTAMP:20260424T060329Z
DTSTART;VALUE=DATE:20240110
DTEND;VALUE=DATE:20240110
SUMMARY:Zuschlag — Lieferung Federringe\, Kragenbuchse und/oder Zwischenplatten 
DESCRIPTION:Phase: Zuschlag | Beschreibung: Vergabeergebnis — Auftrag wurde erteilt oder Verfahren beendet. | Link: https://ausschreibungsradar.com/ausschreibung/21412966/
URL:https://ausschreibungsradar.com/ausschreibung/21412966/
END:VEVENT
BEGIN:VEVENT
UID:fa1557a6316db97b@ausschreibungsradar.com
DTSTAMP:20260424T060329Z
DTSTART;VALUE=DATE:20240110
DTEND;VALUE=DATE:20240110
SUMMARY:Zuschlag — Lieferung Federringe\, Kragenbuchse und/oder Zwischenplatten 
DESCRIPTION:Phase: Zuschlag | Beschreibung: Vergabeergebnis — Auftrag wurde erteilt oder Verfahren beendet. | Link: https://ausschreibungsradar.com/ausschreibung/21412962/
URL:https://ausschreibungsradar.com/ausschreibung/21412962/
END:VEVENT
BEGIN:VEVENT
UID:7f2691b5887b72c7@ausschreibungsradar.com
DTSTAMP:20260424T060329Z
DTSTART;VALUE=DATE:20240110
DTEND;VALUE=DATE:20240110
SUMMARY:Zuschlag — Lieferung Federringe\, Kragenbuchse und/oder Zwischenplatten 
DESCRIPTION:Phase: Zuschlag | Beschreibung: Vergabeergebnis — Auftrag wurde erteilt oder Verfahren beendet. | Link: https://ausschreibungsradar.com/ausschreibung/21412958/
URL:https://ausschreibungsradar.com/ausschreibung/21412958/
END:VEVENT
END:VCALENDAR
