BEGIN:VCALENDAR
VERSION:2.0
PRODID:-//AusschreibungsRadar//Timeline//DE
CALSCALE:GREGORIAN
METHOD:PUBLISH
X-WR-CALNAME:Projekt Unterhaltsreinigung für Büroflächen der Regionalgeschäftsste
X-WR-TIMEZONE:Europe/Berlin
BEGIN:VEVENT
UID:8fdb2b27472d7a3b@ausschreibungsradar.com
DTSTAMP:20260424T151737Z
DTSTART;VALUE=DATE:20260323
DTEND;VALUE=DATE:20260323
SUMMARY:Angebotsfrist — Unterhaltsreinigung für Büroflächen der Regionalgeschäftsste
DESCRIPTION:Phase: Ausschreibung | Beschreibung: Angebote werden eingeholt | Link: https://ausschreibungsradar.com/ausschreibung/2162af0b-967d-4d28-9c09-66bcfa441daf/ | Geschätzter Wert: 415320 €
URL:https://ausschreibungsradar.com/ausschreibung/2162af0b-967d-4d28-9c09-66bcfa441daf/
END:VEVENT
END:VCALENDAR
