BEGIN:VCALENDAR
VERSION:2.0
PRODID:-//AusschreibungsRadar//Timeline//DE
CALSCALE:GREGORIAN
METHOD:PUBLISH
X-WR-CALNAME:Projekt Altlastensanierung ehem. Gaswerk Görlitz
X-WR-TIMEZONE:Europe/Berlin
BEGIN:VEVENT
UID:06087991f1973886@ausschreibungsradar.com
DTSTAMP:20260423T232555Z
DTSTART;VALUE=DATE:20240318
DTEND;VALUE=DATE:20240318
SUMMARY:Ausschreibung — Altlastensanierung ehem. Gaswerk Görlitz
DESCRIPTION:Phase: Ausschreibung | Beschreibung: Offizielle Ausschreibung mit Bieterfrist. | Link: https://ausschreibungsradar.com/ausschreibung/21761962/
URL:https://ausschreibungsradar.com/ausschreibung/21761962/
END:VEVENT
BEGIN:VEVENT
UID:556f7f244d7fd724@ausschreibungsradar.com
DTSTAMP:20260423T232555Z
DTSTART;VALUE=DATE:20240319
DTEND;VALUE=DATE:20240319
SUMMARY:Ausschreibung — Altlastensanierung ehem. Gaswerk Görlitz
DESCRIPTION:Phase: Ausschreibung | Beschreibung: Offizielle Ausschreibung mit Bieterfrist. | Link: https://ausschreibungsradar.com/ausschreibung/21768570/
URL:https://ausschreibungsradar.com/ausschreibung/21768570/
END:VEVENT
BEGIN:VEVENT
UID:1783efa6e88099ef@ausschreibungsradar.com
DTSTAMP:20260423T232555Z
DTSTART;VALUE=DATE:20240321
DTEND;VALUE=DATE:20240321
SUMMARY:Ausschreibung — Altlastensanierung ehem. Gaswerk Görlitz
DESCRIPTION:Phase: Ausschreibung | Beschreibung: Offizielle Ausschreibung mit Bieterfrist. | Link: https://ausschreibungsradar.com/ausschreibung/21787380/
URL:https://ausschreibungsradar.com/ausschreibung/21787380/
END:VEVENT
END:VCALENDAR
