BEGIN:VCALENDAR
VERSION:2.0
PRODID:-//AusschreibungsRadar//Timeline//DE
CALSCALE:GREGORIAN
METHOD:PUBLISH
X-WR-CALNAME:Projekt Neubau Beurer Sportpark SSV Ulm 1846 - Tragwerksplanung
X-WR-TIMEZONE:Europe/Berlin
BEGIN:VEVENT
UID:2bad4c1c10883e87@ausschreibungsradar.com
DTSTAMP:20260425T181452Z
DTSTART;VALUE=DATE:20250723
DTEND;VALUE=DATE:20250723
SUMMARY:Ausschreibung — Neubau Beurer Sportpark SSV Ulm 1846 - Tragwerksplanung
DESCRIPTION:Phase: Ausschreibung | Beschreibung: Angebote werden eingeholt | Link: https://ausschreibungsradar.com/ausschreibung/585673c8-e7e9-4402-a77b-20eb12a8a704/
URL:https://ausschreibungsradar.com/ausschreibung/585673c8-e7e9-4402-a77b-20eb12a8a704/
END:VEVENT
BEGIN:VEVENT
UID:9ae991a72917a42c@ausschreibungsradar.com
DTSTAMP:20260425T181452Z
DTSTART;VALUE=DATE:20251016
DTEND;VALUE=DATE:20251016
SUMMARY:Vergabeergebnis — Neubau Beurer Sportpark SSV Ulm 1846 - Tragwerksplanung
DESCRIPTION:Phase: Vergabeergebnis | Beschreibung: Auftrag wurde zugeschlagen | Link: https://ausschreibungsradar.com/ausschreibung/2195151f-9063-4e73-8fd4-4297878a7b62/
URL:https://ausschreibungsradar.com/ausschreibung/2195151f-9063-4e73-8fd4-4297878a7b62/
END:VEVENT
BEGIN:VEVENT
UID:fc368a827c8d08db@ausschreibungsradar.com
DTSTAMP:20260425T181452Z
DTSTART;VALUE=DATE:20251016
DTEND;VALUE=DATE:20251016
SUMMARY:Zuschlag — Neubau Beurer Sportpark SSV Ulm 1846 - Tragwerksplanung
DESCRIPTION:Phase: Zuschlag | Beschreibung: Vergabeergebnis — Auftrag wurde erteilt oder Verfahren beendet. | Link: https://ausschreibungsradar.com/ausschreibung/fa77b7e8-ea79-442a-ba8a-037457def65a/
URL:https://ausschreibungsradar.com/ausschreibung/fa77b7e8-ea79-442a-ba8a-037457def65a/
END:VEVENT
END:VCALENDAR
