BEGIN:VCALENDAR
VERSION:2.0
PRODID:-//AusschreibungsRadar//Timeline//DE
CALSCALE:GREGORIAN
METHOD:PUBLISH
X-WR-CALNAME:Projekt Stadt Baruth/Mark - Umbau Alte Post zum MVZ - Lieferung und 
X-WR-TIMEZONE:Europe/Berlin
BEGIN:VEVENT
UID:99a43e0be3d65350@ausschreibungsradar.com
DTSTAMP:20260425T122157Z
DTSTART;VALUE=DATE:20240612
DTEND;VALUE=DATE:20240612
SUMMARY:Ausschreibung — Stadt Baruth/Mark - Umbau Alte Post zum MVZ - Lieferung und 
DESCRIPTION:Phase: Ausschreibung | Beschreibung: Offizielle Ausschreibung mit Bieterfrist. | Link: https://ausschreibungsradar.com/ausschreibung/22210332/
URL:https://ausschreibungsradar.com/ausschreibung/22210332/
END:VEVENT
BEGIN:VEVENT
UID:bdd26c83662bc02f@ausschreibungsradar.com
DTSTAMP:20260425T122157Z
DTSTART;VALUE=DATE:20240619
DTEND;VALUE=DATE:20240619
SUMMARY:Ausschreibung — Stadt Baruth/Mark - Umbau Alte Post zum MVZ - Lieferung und 
DESCRIPTION:Phase: Ausschreibung | Beschreibung: Offizielle Ausschreibung mit Bieterfrist. | Link: https://ausschreibungsradar.com/ausschreibung/04c687e2-eb36-45de-a10e-7966bf03e3f0/
URL:https://ausschreibungsradar.com/ausschreibung/04c687e2-eb36-45de-a10e-7966bf03e3f0/
END:VEVENT
END:VCALENDAR
