BEGIN:VCALENDAR
VERSION:2.0
PRODID:-//AusschreibungsRadar//Timeline//DE
CALSCALE:GREGORIAN
METHOD:PUBLISH
X-WR-CALNAME:Projekt Nationale Ausschreibung für die Lieferung von Pipettenspitze
X-WR-TIMEZONE:Europe/Berlin
BEGIN:VEVENT
UID:3b8c811b491f7943@ausschreibungsradar.com
DTSTAMP:20260424T022809Z
DTSTART;VALUE=DATE:20240628
DTEND;VALUE=DATE:20240628
SUMMARY:Ausschreibung — Nationale Ausschreibung für die Lieferung von Pipettenspitze
DESCRIPTION:Phase: Ausschreibung | Beschreibung: Offizielle Ausschreibung mit Bieterfrist. | Link: https://ausschreibungsradar.com/ausschreibung/22301624/
URL:https://ausschreibungsradar.com/ausschreibung/22301624/
END:VEVENT
BEGIN:VEVENT
UID:3a2cd9ec3f897707@ausschreibungsradar.com
DTSTAMP:20260424T022809Z
DTSTART;VALUE=DATE:20240628
DTEND;VALUE=DATE:20240628
SUMMARY:Ausschreibung — Nationale Ausschreibung für die Lieferung von Pipettenspitze
DESCRIPTION:Phase: Ausschreibung | Beschreibung: Offizielle Ausschreibung mit Bieterfrist. | Link: https://ausschreibungsradar.com/ausschreibung/22301632/
URL:https://ausschreibungsradar.com/ausschreibung/22301632/
END:VEVENT
BEGIN:VEVENT
UID:36d31902e82a842a@ausschreibungsradar.com
DTSTAMP:20260424T022809Z
DTSTART;VALUE=DATE:20240704
DTEND;VALUE=DATE:20240704
SUMMARY:Ausschreibung — Nationale Ausschreibung für die Lieferung von Pipettenspitze
DESCRIPTION:Phase: Ausschreibung | Beschreibung: Offizielle Ausschreibung mit Bieterfrist. | Link: https://ausschreibungsradar.com/ausschreibung/22335964/
URL:https://ausschreibungsradar.com/ausschreibung/22335964/
END:VEVENT
BEGIN:VEVENT
UID:afc545f14d28a44a@ausschreibungsradar.com
DTSTAMP:20260424T022809Z
DTSTART;VALUE=DATE:20240704
DTEND;VALUE=DATE:20240704
SUMMARY:Ausschreibung — Nationale Ausschreibung für die Lieferung von Pipettenspitze
DESCRIPTION:Phase: Ausschreibung | Beschreibung: Offizielle Ausschreibung mit Bieterfrist. | Link: https://ausschreibungsradar.com/ausschreibung/22335968/
URL:https://ausschreibungsradar.com/ausschreibung/22335968/
END:VEVENT
BEGIN:VEVENT
UID:b55d0e030dade65e@ausschreibungsradar.com
DTSTAMP:20260424T022809Z
DTSTART;VALUE=DATE:20240708
DTEND;VALUE=DATE:20240708
SUMMARY:Ausschreibung — Nationale Ausschreibung für die Lieferung von Pipettenspitze
DESCRIPTION:Phase: Ausschreibung | Beschreibung: Offizielle Ausschreibung mit Bieterfrist. | Link: https://ausschreibungsradar.com/ausschreibung/22353550/
URL:https://ausschreibungsradar.com/ausschreibung/22353550/
END:VEVENT
BEGIN:VEVENT
UID:383ea95fcfbd3cd6@ausschreibungsradar.com
DTSTAMP:20260424T022809Z
DTSTART;VALUE=DATE:20240712
DTEND;VALUE=DATE:20240712
SUMMARY:Ausschreibung — Nationale Ausschreibung für die Lieferung von Pipettenspitze
DESCRIPTION:Phase: Ausschreibung | Beschreibung: Offizielle Ausschreibung mit Bieterfrist. | Link: https://ausschreibungsradar.com/ausschreibung/22382626/
URL:https://ausschreibungsradar.com/ausschreibung/22382626/
END:VEVENT
END:VCALENDAR
