BEGIN:VCALENDAR
VERSION:2.0
PRODID:-//AusschreibungsRadar//Timeline//DE
CALSCALE:GREGORIAN
METHOD:PUBLISH
X-WR-CALNAME:Projekt Sanitärarbeiten (Gewerk 040) Sanitärinstallation - Erweiteru
X-WR-TIMEZONE:Europe/Berlin
BEGIN:VEVENT
UID:b51a95e9f7e95994@ausschreibungsradar.com
DTSTAMP:20260425T004006Z
DTSTART;VALUE=DATE:20240522
DTEND;VALUE=DATE:20240522
SUMMARY:Angebotsfrist — Sanitärarbeiten (Gewerk 040) Sanitärinstallation - Erweiteru
DESCRIPTION:Phase: Ausschreibung | Beschreibung: Angebote werden eingeholt | Link: https://ausschreibungsradar.com/ausschreibung/22412089-c8f7-479e-8a8e-0a09296ed8f7/
URL:https://ausschreibungsradar.com/ausschreibung/22412089-c8f7-479e-8a8e-0a09296ed8f7/
END:VEVENT
BEGIN:VEVENT
UID:5653101f7ef34a54@ausschreibungsradar.com
DTSTAMP:20260425T004006Z
DTSTART;VALUE=DATE:20240702
DTEND;VALUE=DATE:20240702
SUMMARY:Vergabeergebnis — Sanitärarbeiten (Gewerk 040) Sanitärinstallation - Erweiteru
DESCRIPTION:Phase: Vergabeergebnis | Beschreibung: Auftrag wurde zugeschlagen | Link: https://ausschreibungsradar.com/ausschreibung/2eee2dc9-cb3d-411c-8cbc-840eb48b9be3/
URL:https://ausschreibungsradar.com/ausschreibung/2eee2dc9-cb3d-411c-8cbc-840eb48b9be3/
END:VEVENT
END:VCALENDAR
