BEGIN:VCALENDAR
VERSION:2.0
PRODID:-//AusschreibungsRadar//Timeline//DE
CALSCALE:GREGORIAN
METHOD:PUBLISH
X-WR-CALNAME:Projekt Rechtsberatungsdienstleistungen
X-WR-TIMEZONE:Europe/Berlin
BEGIN:VEVENT
UID:fef06b39759eff18@ausschreibungsradar.com
DTSTAMP:20260424T032430Z
DTSTART;VALUE=DATE:20240626
DTEND;VALUE=DATE:20240626
SUMMARY:Ausschreibung — Rechtsberatungsdienstleistungen
DESCRIPTION:Phase: Ausschreibung | Beschreibung: Offizielle Ausschreibung mit Bieterfrist. | Link: https://ausschreibungsradar.com/ausschreibung/22287416/
URL:https://ausschreibungsradar.com/ausschreibung/22287416/
END:VEVENT
BEGIN:VEVENT
UID:c71c38ef289c8ba8@ausschreibungsradar.com
DTSTAMP:20260424T032430Z
DTSTART;VALUE=DATE:20240719
DTEND;VALUE=DATE:20240719
SUMMARY:Ausschreibung — Rechtsberatungsdienstleistungen
DESCRIPTION:Phase: Ausschreibung | Beschreibung: Offizielle Ausschreibung mit Bieterfrist. | Link: https://ausschreibungsradar.com/ausschreibung/22418628/
URL:https://ausschreibungsradar.com/ausschreibung/22418628/
END:VEVENT
END:VCALENDAR
