BEGIN:VCALENDAR
VERSION:2.0
PRODID:-//AusschreibungsRadar//Timeline//DE
CALSCALE:GREGORIAN
METHOD:PUBLISH
X-WR-CALNAME:Projekt Barrierefreier Ausbau Haltestelle Cottbuser Tor in Hoyerswer
X-WR-TIMEZONE:Europe/Berlin
BEGIN:VEVENT
UID:5329627807e195a8@ausschreibungsradar.com
DTSTAMP:20260424T062314Z
DTSTART;VALUE=DATE:20240726
DTEND;VALUE=DATE:20240726
SUMMARY:Ausschreibung — Barrierefreier Ausbau Haltestelle Cottbuser Tor in Hoyerswer
DESCRIPTION:Phase: Ausschreibung | Beschreibung: Offizielle Ausschreibung mit Bieterfrist. | Link: https://ausschreibungsradar.com/ausschreibung/22446760/
URL:https://ausschreibungsradar.com/ausschreibung/22446760/
END:VEVENT
BEGIN:VEVENT
UID:dd8bf9754553204e@ausschreibungsradar.com
DTSTAMP:20260424T062314Z
DTSTART;VALUE=DATE:20240726
DTEND;VALUE=DATE:20240726
SUMMARY:Ausschreibung — Barrierefreier Ausbau Haltestelle Cottbuser Tor in Hoyerswer
DESCRIPTION:Phase: Ausschreibung | Beschreibung: Offizielle Ausschreibung mit Bieterfrist. | Link: https://ausschreibungsradar.com/ausschreibung/22446776/
URL:https://ausschreibungsradar.com/ausschreibung/22446776/
END:VEVENT
END:VCALENDAR
