BEGIN:VCALENDAR
VERSION:2.0
PRODID:-//AusschreibungsRadar//Timeline//DE
CALSCALE:GREGORIAN
METHOD:PUBLISH
X-WR-CALNAME:Projekt Ersatzbau Fahrzeughalle für 12 Stellplätze der FTZ Kyritz un
X-WR-TIMEZONE:Europe/Berlin
BEGIN:VEVENT
UID:05533255f2672e89@ausschreibungsradar.com
DTSTAMP:20260425T142859Z
DTSTART;VALUE=DATE:20240805
DTEND;VALUE=DATE:20240805
SUMMARY:Zuschlag — Ersatzbau Fahrzeughalle für 12 Stellplätze der FTZ Kyritz un
DESCRIPTION:Phase: Zuschlag | Beschreibung: Vergabeergebnis — Auftrag wurde erteilt oder Verfahren beendet. | Link: https://ausschreibungsradar.com/ausschreibung/22501326/
URL:https://ausschreibungsradar.com/ausschreibung/22501326/
END:VEVENT
BEGIN:VEVENT
UID:438e3c9344362a8f@ausschreibungsradar.com
DTSTAMP:20260425T142859Z
DTSTART;VALUE=DATE:20240805
DTEND;VALUE=DATE:20240805
SUMMARY:Zuschlag — Ersatzbau Fahrzeughalle für 12 Stellplätze der FTZ Kyritz un
DESCRIPTION:Phase: Zuschlag | Beschreibung: Vergabeergebnis — Auftrag wurde erteilt oder Verfahren beendet. | Link: https://ausschreibungsradar.com/ausschreibung/22501374/
URL:https://ausschreibungsradar.com/ausschreibung/22501374/
END:VEVENT
END:VCALENDAR
