BEGIN:VCALENDAR
VERSION:2.0
PRODID:-//AusschreibungsRadar//Timeline//DE
CALSCALE:GREGORIAN
METHOD:PUBLISH
X-WR-CALNAME:Projekt Erneuerung der Ortsstraße in Wagenhausen
X-WR-TIMEZONE:Europe/Berlin
BEGIN:VEVENT
UID:20bfba22d3ea01d2@ausschreibungsradar.com
DTSTAMP:20260424T152618Z
DTSTART;VALUE=DATE:20240711
DTEND;VALUE=DATE:20240711
SUMMARY:Ausschreibung — Erneuerung der Ortsstraße in Wagenhausen
DESCRIPTION:Phase: Ausschreibung | Beschreibung: Offizielle Ausschreibung mit Bieterfrist. | Link: https://ausschreibungsradar.com/ausschreibung/22381122/
URL:https://ausschreibungsradar.com/ausschreibung/22381122/
END:VEVENT
BEGIN:VEVENT
UID:8ebb7a2336782a15@ausschreibungsradar.com
DTSTAMP:20260424T152618Z
DTSTART;VALUE=DATE:20240809
DTEND;VALUE=DATE:20240809
SUMMARY:Zuschlag — Erneuerung der Ortsstraße in Wagenhausen
DESCRIPTION:Phase: Zuschlag | Beschreibung: Vergabeergebnis — Auftrag wurde erteilt oder Verfahren beendet. | Link: https://ausschreibungsradar.com/ausschreibung/22541260/
URL:https://ausschreibungsradar.com/ausschreibung/22541260/
END:VEVENT
END:VCALENDAR
