BEGIN:VCALENDAR
VERSION:2.0
PRODID:-//AusschreibungsRadar//Timeline//DE
CALSCALE:GREGORIAN
METHOD:PUBLISH
X-WR-CALNAME:Projekt Neubau kaltes Nahwärmenetz Schmölln - Los 7 Elektroanschlüss
X-WR-TIMEZONE:Europe/Berlin
BEGIN:VEVENT
UID:d78c8460c3080152@ausschreibungsradar.com
DTSTAMP:20260424T020550Z
DTSTART;VALUE=DATE:20240909
DTEND;VALUE=DATE:20240909
SUMMARY:Änderung — Neubau kaltes Nahwärmenetz Schmölln - Los 7 Elektroanschlüss
DESCRIPTION:Phase: Änderung | Beschreibung: Nachtrag oder Korrektur zur Bekanntmachung. | Link: https://ausschreibungsradar.com/ausschreibung/22681788/
URL:https://ausschreibungsradar.com/ausschreibung/22681788/
END:VEVENT
BEGIN:VEVENT
UID:41a95ff74a291bf8@ausschreibungsradar.com
DTSTAMP:20260424T020550Z
DTSTART;VALUE=DATE:20240910
DTEND;VALUE=DATE:20240910
SUMMARY:Ausschreibung — Neubau kaltes Nahwärmenetz Schmölln - Los 7 Elektroanschlüss
DESCRIPTION:Phase: Ausschreibung | Beschreibung: Offizielle Ausschreibung mit Bieterfrist. | Link: https://ausschreibungsradar.com/ausschreibung/22686334/
URL:https://ausschreibungsradar.com/ausschreibung/22686334/
END:VEVENT
BEGIN:VEVENT
UID:6f3cc4d1cfbd88f8@ausschreibungsradar.com
DTSTAMP:20260424T020550Z
DTSTART;VALUE=DATE:20240911
DTEND;VALUE=DATE:20240911
SUMMARY:Ausschreibung — Neubau kaltes Nahwärmenetz Schmölln - Los 7 Elektroanschlüss
DESCRIPTION:Phase: Ausschreibung | Beschreibung: Offizielle Ausschreibung mit Bieterfrist. | Link: https://ausschreibungsradar.com/ausschreibung/22691188/
URL:https://ausschreibungsradar.com/ausschreibung/22691188/
END:VEVENT
BEGIN:VEVENT
UID:043f104827e55c01@ausschreibungsradar.com
DTSTAMP:20260424T020550Z
DTSTART;VALUE=DATE:20240911
DTEND;VALUE=DATE:20240911
SUMMARY:Ausschreibung — Neubau kaltes Nahwärmenetz Schmölln - Los 7 Elektroanschlüss
DESCRIPTION:Phase: Ausschreibung | Beschreibung: Offizielle Ausschreibung mit Bieterfrist. | Link: https://ausschreibungsradar.com/ausschreibung/22691168/
URL:https://ausschreibungsradar.com/ausschreibung/22691168/
END:VEVENT
END:VCALENDAR
