BEGIN:VCALENDAR
VERSION:2.0
PRODID:-//AusschreibungsRadar//Timeline//DE
CALSCALE:GREGORIAN
METHOD:PUBLISH
X-WR-CALNAME:Projekt Kommunale Wärmeplanung Postbauer-Heng
X-WR-TIMEZONE:Europe/Berlin
BEGIN:VEVENT
UID:9f4485b73d83943b@ausschreibungsradar.com
DTSTAMP:20260424T203442Z
DTSTART;VALUE=DATE:20240919
DTEND;VALUE=DATE:20240919
SUMMARY:Ausschreibung — Kommunale Wärmeplanung Postbauer-Heng
DESCRIPTION:Phase: Ausschreibung | Beschreibung: Offizielle Ausschreibung mit Bieterfrist. | Link: https://ausschreibungsradar.com/ausschreibung/22745540/
URL:https://ausschreibungsradar.com/ausschreibung/22745540/
END:VEVENT
BEGIN:VEVENT
UID:0ee4e90d18f10b20@ausschreibungsradar.com
DTSTAMP:20260424T203442Z
DTSTART;VALUE=DATE:20241017
DTEND;VALUE=DATE:20241017
SUMMARY:Ausschreibung — Kommunale Wärmeplanung Postbauer-Heng
DESCRIPTION:Phase: Ausschreibung | Beschreibung: Offizielle Ausschreibung mit Bieterfrist. | Link: https://ausschreibungsradar.com/ausschreibung/22879250/
URL:https://ausschreibungsradar.com/ausschreibung/22879250/
END:VEVENT
END:VCALENDAR
