BEGIN:VCALENDAR
VERSION:2.0
PRODID:-//AusschreibungsRadar//Timeline//DE
CALSCALE:GREGORIAN
METHOD:PUBLISH
X-WR-CALNAME:Projekt Lieferung von Alpha/Beta/Iod-Überwachungssystemen
X-WR-TIMEZONE:Europe/Berlin
BEGIN:VEVENT
UID:fe04c2074ebfd585@ausschreibungsradar.com
DTSTAMP:20260425T135134Z
DTSTART;VALUE=DATE:20260603
DTEND;VALUE=DATE:20260603
SUMMARY:Angebotsfrist — Lieferung von Alpha/Beta/Iod-Überwachungssystemen
DESCRIPTION:Phase: Ausschreibung | Beschreibung: Angebote werden eingeholt | Link: https://ausschreibungsradar.com/ausschreibung/22a42ca3-c9b6-4f18-8a06-2b9c21c6dd98/
URL:https://ausschreibungsradar.com/ausschreibung/22a42ca3-c9b6-4f18-8a06-2b9c21c6dd98/
END:VEVENT
BEGIN:VEVENT
UID:d7bb23c62f2aa911@ausschreibungsradar.com
DTSTAMP:20260425T135134Z
DTSTART;VALUE=DATE:20260408
DTEND;VALUE=DATE:20260408
SUMMARY:Ausschreibung — Lieferung von Alpha/Beta/Iod-Überwachungssystemen
DESCRIPTION:Phase: Ausschreibung | Beschreibung: Offizielle Ausschreibung mit Bieterfrist. | Link: https://ausschreibungsradar.com/ausschreibung/05871db9-4c84-4e80-bbf2-044285298e36/
URL:https://ausschreibungsradar.com/ausschreibung/05871db9-4c84-4e80-bbf2-044285298e36/
END:VEVENT
BEGIN:VEVENT
UID:d2afcaa012c74a2b@ausschreibungsradar.com
DTSTAMP:20260425T135134Z
DTSTART;VALUE=DATE:20260408
DTEND;VALUE=DATE:20260408
SUMMARY:Ausschreibung — Lieferung von Alpha/Beta/Iod-Überwachungssystemen
DESCRIPTION:Phase: Ausschreibung | Beschreibung: Offizielle Ausschreibung mit Bieterfrist. | Link: https://ausschreibungsradar.com/ausschreibung/2978273b-bda0-48fe-a67c-e8bc65c0a5cf/
URL:https://ausschreibungsradar.com/ausschreibung/2978273b-bda0-48fe-a67c-e8bc65c0a5cf/
END:VEVENT
BEGIN:VEVENT
UID:13a338b5da7e4214@ausschreibungsradar.com
DTSTAMP:20260425T135134Z
DTSTART;VALUE=DATE:20260421
DTEND;VALUE=DATE:20260421
SUMMARY:Ausschreibung — Lieferung von Alpha/Beta/Iod-Überwachungssystemen
DESCRIPTION:Phase: Ausschreibung | Beschreibung: Offizielle Ausschreibung mit Bieterfrist. | Link: https://ausschreibungsradar.com/ausschreibung/ted-271352-2026/
URL:https://ausschreibungsradar.com/ausschreibung/ted-271352-2026/
END:VEVENT
END:VCALENDAR
