BEGIN:VCALENDAR
VERSION:2.0
PRODID:-//AusschreibungsRadar//Timeline//DE
CALSCALE:GREGORIAN
METHOD:PUBLISH
X-WR-CALNAME:Projekt Sanierung und Nutzungserweiterung Gemeinschaftsunterkunft No
X-WR-TIMEZONE:Europe/Berlin
BEGIN:VEVENT
UID:1e4b01daab2e6e20@ausschreibungsradar.com
DTSTAMP:20260425T042211Z
DTSTART;VALUE=DATE:20241120
DTEND;VALUE=DATE:20241120
SUMMARY:Ausschreibung — Sanierung und Nutzungserweiterung Gemeinschaftsunterkunft No
DESCRIPTION:Phase: Ausschreibung | Beschreibung: Offizielle Ausschreibung mit Bieterfrist. | Link: https://ausschreibungsradar.com/ausschreibung/23040600/
URL:https://ausschreibungsradar.com/ausschreibung/23040600/
END:VEVENT
BEGIN:VEVENT
UID:5b0f905448780b02@ausschreibungsradar.com
DTSTAMP:20260425T042211Z
DTSTART;VALUE=DATE:20241121
DTEND;VALUE=DATE:20241121
SUMMARY:Ausschreibung — Sanierung und Nutzungserweiterung Gemeinschaftsunterkunft No
DESCRIPTION:Phase: Ausschreibung | Beschreibung: Offizielle Ausschreibung mit Bieterfrist. | Link: https://ausschreibungsradar.com/ausschreibung/23047438/
URL:https://ausschreibungsradar.com/ausschreibung/23047438/
END:VEVENT
END:VCALENDAR
